BEGIN:VCALENDAR
VERSION:2.0
PRODID:-//The Village Green Of Cashiers - ECPv6.15.13//NONSGML v1.0//EN
CALSCALE:GREGORIAN
METHOD:PUBLISH
X-ORIGINAL-URL:https://www.villagegreencashiersnc.com
X-WR-CALDESC:Events for The Village Green Of Cashiers
REFRESH-INTERVAL;VALUE=DURATION:PT1H
X-Robots-Tag:noindex
X-PUBLISHED-TTL:PT1H
BEGIN:VTIMEZONE
TZID:America/New_York
BEGIN:DAYLIGHT
TZOFFSETFROM:-0500
TZOFFSETTO:-0400
TZNAME:EDT
DTSTART:20220313T070000
END:DAYLIGHT
BEGIN:STANDARD
TZOFFSETFROM:-0400
TZOFFSETTO:-0500
TZNAME:EST
DTSTART:20221106T060000
END:STANDARD
BEGIN:DAYLIGHT
TZOFFSETFROM:-0500
TZOFFSETTO:-0400
TZNAME:EDT
DTSTART:20230312T070000
END:DAYLIGHT
BEGIN:STANDARD
TZOFFSETFROM:-0400
TZOFFSETTO:-0500
TZNAME:EST
DTSTART:20231105T060000
END:STANDARD
BEGIN:DAYLIGHT
TZOFFSETFROM:-0500
TZOFFSETTO:-0400
TZNAME:EDT
DTSTART:20240310T070000
END:DAYLIGHT
BEGIN:STANDARD
TZOFFSETFROM:-0400
TZOFFSETTO:-0500
TZNAME:EST
DTSTART:20241103T060000
END:STANDARD
END:VTIMEZONE
BEGIN:VEVENT
DTSTART;TZID=America/New_York:20230826T100000
DTEND;TZID=America/New_York:20230902T160000
DTSTAMP:20260419T195438
CREATED:20230428T145723Z
LAST-MODIFIED:20230428T145912Z
UID:4253-1693044000-1693670400@www.villagegreencashiersnc.com
SUMMARY:26th Annual Cashiers Designer Showhouse
DESCRIPTION:Cashiers Designer Showhouse will celebrate its 26th Anniversary\nAUGUST 25 – SEPTEMBER 2\, 2023 \nThis year’s Showhouse is a newly constructed home in the Chimney Top section of High Hampton. The home was graciously loaned to the Cashiers Historical Society for use as our Showhouse this year. We are extremely grateful to the owners for allowing us to continue this annual tradition.  \nRecognized Designers from across the southeast will design and inspire in this 4 bedroom\, 4 full baths and 2 half bath home which features a cathedral celling Great Room\, a Yoga Room\, Library and a large Bunk Room. \nSHOWHOUSE DAYS  \nFriday\, August 25 –Saturday\, September 2 \nSHOWHOUSE HOURS \nMonday – Sunday 10 a.m. – 4 p.m. \nVENDOR HOURS \nMonday-Saturday 9:00 a.m. – 5:00 p.m. \nSunday\, August 27\, 9:00 – 4:00 p.m. \nFOR INFORMATION CONTACT  \nCashiers Historical Society: (828) 743-7710 \nTo Learn More about Cashiers Designer Showhouse – CLICK HERE
URL:https://www.villagegreencashiersnc.com/event/26thacashiers-designer-showhouse/
LOCATION:Lewis Hall at The Village Green\, 160 Frank Allen Road\, Cashiers\, NC\, 28717\, United States
CATEGORIES:Cultural Events
ATTACH;FMTTYPE=image/webp:https://www.villagegreencashiersnc.com/wp-content/uploads/2023/04/CHS-Logo.webp
END:VEVENT
END:VCALENDAR