BEGIN:VCALENDAR
VERSION:2.0
PRODID:-//The Village Green Of Cashiers - ECPv6.15.13//NONSGML v1.0//EN
CALSCALE:GREGORIAN
METHOD:PUBLISH
X-ORIGINAL-URL:https://www.villagegreencashiersnc.com
X-WR-CALDESC:Events for The Village Green Of Cashiers
REFRESH-INTERVAL;VALUE=DURATION:PT1H
X-Robots-Tag:noindex
X-PUBLISHED-TTL:PT1H
BEGIN:VTIMEZONE
TZID:America/New_York
BEGIN:DAYLIGHT
TZOFFSETFROM:-0500
TZOFFSETTO:-0400
TZNAME:EDT
DTSTART:20220313T070000
END:DAYLIGHT
BEGIN:STANDARD
TZOFFSETFROM:-0400
TZOFFSETTO:-0500
TZNAME:EST
DTSTART:20221106T060000
END:STANDARD
BEGIN:DAYLIGHT
TZOFFSETFROM:-0500
TZOFFSETTO:-0400
TZNAME:EDT
DTSTART:20230312T070000
END:DAYLIGHT
BEGIN:STANDARD
TZOFFSETFROM:-0400
TZOFFSETTO:-0500
TZNAME:EST
DTSTART:20231105T060000
END:STANDARD
BEGIN:DAYLIGHT
TZOFFSETFROM:-0500
TZOFFSETTO:-0400
TZNAME:EDT
DTSTART:20240310T070000
END:DAYLIGHT
BEGIN:STANDARD
TZOFFSETFROM:-0400
TZOFFSETTO:-0500
TZNAME:EST
DTSTART:20241103T060000
END:STANDARD
END:VTIMEZONE
BEGIN:VEVENT
DTSTART;TZID=America/New_York:20231124T100000
DTEND;TZID=America/New_York:20231124T183000
DTSTAMP:20260419T195437
CREATED:20230116T174316Z
LAST-MODIFIED:20230116T174316Z
UID:3683-1700820000-1700850600@www.villagegreencashiersnc.com
SUMMARY:Mistletoe Market
DESCRIPTION:Visit The Village Green Mistletoe Market\, an event featuring artisan vendors with a unique assortment of handcrafted gifts. Find hand crafted pottery\, handwoven wearable fiber\, beautiful wood pieces\, knives\, jewelry\, fresh baked goods\, wreaths and garland\, and much more on the day after Thanksgiving. \nThe Mistletoe Market will be held at The Village Green Lewis Hall on November 24th from 10am-6:30pm. Find something special and unique for everyone on your Christmas list! Admission to this event is free.
URL:https://www.villagegreencashiersnc.com/event/mistletoe-market-3/
LOCATION:Lewis Hall at The Village Green\, 160 Frank Allen Road\, Cashiers\, NC\, 28717\, United States
ORGANIZER;CN="The Village Green of Cashiers":MAILTO:Shelby@cashiersgreen.com
END:VEVENT
BEGIN:VEVENT
DTSTART;TZID=America/New_York:20231124T140000
DTEND;TZID=America/New_York:20231124T170000
DTSTAMP:20260419T195437
CREATED:20230116T181435Z
LAST-MODIFIED:20230116T181435Z
UID:3688-1700834400-1700845200@www.villagegreencashiersnc.com
SUMMARY:Visit with Santa at The Village Green
DESCRIPTION:Santa Claus is coming to town and his first stop is The Village Green! Children of all ages are welcome to visit with Santa at The Village Green Lewis Hall on the day after Thanksgiving. Santa visits will be in conjunction with the Mistletoe Market\, so you are able to shop local\, artisan gifts while you’re there. Appointment times will be made available in early November and will be posted on The Village Green website. Santa will be visiting with children from 2-5pm.
URL:https://www.villagegreencashiersnc.com/event/visit-with-santa-at-the-village-green/
LOCATION:Lewis Hall at The Village Green\, 160 Frank Allen Road\, Cashiers\, NC\, 28717\, United States
ORGANIZER;CN="The Village Green of Cashiers":MAILTO:Shelby@cashiersgreen.com
END:VEVENT
BEGIN:VEVENT
DTSTART;TZID=America/New_York:20231124T173000
DTEND;TZID=America/New_York:20231124T183000
DTSTAMP:20260419T195437
CREATED:20230116T175940Z
LAST-MODIFIED:20230116T175940Z
UID:3686-1700847000-1700850600@www.villagegreencashiersnc.com
SUMMARY:Cashiers Christmas Tree Lighting
DESCRIPTION:The annual Cashiers Christmas Tree Lighting Ceremony will be on November 24th from 5:30pm – 6:30pm at The Village Green Gazebo Lawn (located near the Cashiers Crossroads). The event will feature holiday music\, S’mores and cider\, and a cozy fire pit! Santa Claus will be there to help light the 65-foot spruce tree in the center of Cashiers where thousands of twinkling lights will follow to light up the village core. Join us for this heartwarming event to start off the holiday season. \nThis event is free to the public\, and donations to keep the lights on in 2023 are accepted.
URL:https://www.villagegreencashiersnc.com/event/cashiers-christmas-tree-lighting/
LOCATION:Gazebo and Lawn\, 35 Highway 64 West\, Cashiers\, NC\, 28717\, United States
ORGANIZER;CN="The Village Green of Cashiers":MAILTO:Shelby@cashiersgreen.com
END:VEVENT
END:VCALENDAR