BEGIN:VCALENDAR
VERSION:2.0
PRODID:-//The Village Green Of Cashiers - ECPv6.15.13//NONSGML v1.0//EN
CALSCALE:GREGORIAN
METHOD:PUBLISH
X-WR-CALNAME:The Village Green Of Cashiers
X-ORIGINAL-URL:https://www.villagegreencashiersnc.com
X-WR-CALDESC:Events for The Village Green Of Cashiers
REFRESH-INTERVAL;VALUE=DURATION:PT1H
X-Robots-Tag:noindex
X-PUBLISHED-TTL:PT1H
BEGIN:VTIMEZONE
TZID:America/New_York
BEGIN:DAYLIGHT
TZOFFSETFROM:-0500
TZOFFSETTO:-0400
TZNAME:EDT
DTSTART:20230312T070000
END:DAYLIGHT
BEGIN:STANDARD
TZOFFSETFROM:-0400
TZOFFSETTO:-0500
TZNAME:EST
DTSTART:20231105T060000
END:STANDARD
BEGIN:DAYLIGHT
TZOFFSETFROM:-0500
TZOFFSETTO:-0400
TZNAME:EDT
DTSTART:20240310T070000
END:DAYLIGHT
BEGIN:STANDARD
TZOFFSETFROM:-0400
TZOFFSETTO:-0500
TZNAME:EST
DTSTART:20241103T060000
END:STANDARD
BEGIN:DAYLIGHT
TZOFFSETFROM:-0500
TZOFFSETTO:-0400
TZNAME:EDT
DTSTART:20250309T070000
END:DAYLIGHT
BEGIN:STANDARD
TZOFFSETFROM:-0400
TZOFFSETTO:-0500
TZNAME:EST
DTSTART:20251102T060000
END:STANDARD
END:VTIMEZONE
BEGIN:VEVENT
DTSTART;TZID=America/New_York:20240330T110000
DTEND;TZID=America/New_York:20240330T120000
DTSTAMP:20260419T112651
CREATED:20240108T195330Z
LAST-MODIFIED:20240108T195330Z
UID:4615-1711796400-1711800000@www.villagegreencashiersnc.com
SUMMARY:Community Easter Egg Hunt
DESCRIPTION:Hop on over to The Village Green for our annual Community Easter Egg Hunt! The egg hunt will take place on Saturday\, March 30\, 2024\, starting at 11am. This event is FREE and open to children ages 11 and younger. The egg hunt will be divided according to age. Ages 9-11 will be located on the Gazebo Lawn\, ages 5-8 will be located on the playground lawn\, and ages 4 > will be located inside of the playground area. \nThe Easter Bunny will be making a visit to take photos with the kiddos! Please bring your own cameras and Easter baskets to this event. We hope to see you there!
URL:https://www.villagegreencashiersnc.com/event/community-easter-egg-hunt/
LOCATION:Gazebo and Lawn\, 35 Highway 64 West\, Cashiers\, NC\, 28717\, United States
ORGANIZER;CN="The Village Green of Cashiers":MAILTO:Shelby@cashiersgreen.com
END:VEVENT
END:VCALENDAR