BEGIN:VCALENDAR
VERSION:2.0
PRODID:-//The Village Green Of Cashiers - ECPv6.15.13//NONSGML v1.0//EN
CALSCALE:GREGORIAN
METHOD:PUBLISH
X-WR-CALNAME:The Village Green Of Cashiers
X-ORIGINAL-URL:https://www.villagegreencashiersnc.com
X-WR-CALDESC:Events for The Village Green Of Cashiers
REFRESH-INTERVAL;VALUE=DURATION:PT1H
X-Robots-Tag:noindex
X-PUBLISHED-TTL:PT1H
BEGIN:VTIMEZONE
TZID:America/New_York
BEGIN:DAYLIGHT
TZOFFSETFROM:-0500
TZOFFSETTO:-0400
TZNAME:EDT
DTSTART:20230312T070000
END:DAYLIGHT
BEGIN:STANDARD
TZOFFSETFROM:-0400
TZOFFSETTO:-0500
TZNAME:EST
DTSTART:20231105T060000
END:STANDARD
BEGIN:DAYLIGHT
TZOFFSETFROM:-0500
TZOFFSETTO:-0400
TZNAME:EDT
DTSTART:20240310T070000
END:DAYLIGHT
BEGIN:STANDARD
TZOFFSETFROM:-0400
TZOFFSETTO:-0500
TZNAME:EST
DTSTART:20241103T060000
END:STANDARD
BEGIN:DAYLIGHT
TZOFFSETFROM:-0500
TZOFFSETTO:-0400
TZNAME:EDT
DTSTART:20250309T070000
END:DAYLIGHT
BEGIN:STANDARD
TZOFFSETFROM:-0400
TZOFFSETTO:-0500
TZNAME:EST
DTSTART:20251102T060000
END:STANDARD
END:VTIMEZONE
BEGIN:VEVENT
DTSTART;TZID=America/New_York:20240528T173000
DTEND;TZID=America/New_York:20241022T183000
DTSTAMP:20260421T011024
CREATED:20240108T200844Z
LAST-MODIFIED:20240411T165207Z
UID:4623-1716917400-1729621800@www.villagegreencashiersnc.com
SUMMARY:Village Nature Series
DESCRIPTION:The Highlands-Cashiers Land Trust and The Village Green co-host a series of lectures each summer. Visitors and residents learn about wildlife\, habitats\, conservation\, and local cultural heritage from expert speakers in their fields! The Village Nature Series will begin at 5:30pm on the last Tuesday of each month (August’s presentation will be held on the 20th) from April through September at The Village Green in Cashiers. \nThank you to Cedar Creek Club for sponsoring the Village Nature Series! \nMay 28th Presentation: North Carolina’s hemlock trees need your help. Though hemlocks are declining\, there is hope to bring them back to their previous glory! Join Olivia and Thom from the Hemlock Restoration Initiative to learn about hemlock ecology\, woolly adelgid biology\, what is being done to help\, and management strategies to take care of hemlocks on your own land.
URL:https://www.villagegreencashiersnc.com/event/village-nature-series-3-2024-05-28/
LOCATION:Lewis Hall at The Village Green\, 160 Frank Allen Road\, Cashiers\, NC\, 28717\, United States
ATTACH;FMTTYPE=image/png:https://www.villagegreencashiersnc.com/wp-content/uploads/2024/04/Village-Nature-Series.png
END:VEVENT
BEGIN:VEVENT
DTSTART;TZID=America/New_York:20240625T173000
DTEND;TZID=America/New_York:20241119T183000
DTSTAMP:20260421T011024
CREATED:20240108T200844Z
LAST-MODIFIED:20240411T165008Z
UID:4624-1719336600-1732041000@www.villagegreencashiersnc.com
SUMMARY:Village Nature Series
DESCRIPTION:The Highlands-Cashiers Land Trust and The Village Green co-host a series of lectures each summer. Visitors and residents learn about wildlife\, habitats\, conservation\, and local cultural heritage from expert speakers in their fields! The Village Nature Series will begin at 5:30pm on the last Tuesday of each month (August’s presentation will be held on the 20th) from April through September at The Village Green in Cashiers. \nThank you to Cedar Creek Club for sponsoring the Village Nature Series! \nJune 25th Description: Join Lizza Bixby as she weaves a terrific journey around all things fungi! Lizza will break the veil of mystery and briefly explain mushroom foraging in our area\, at home mushroom growing\, and how it can be great for your garden. She will cover myco-innovations sure to get you excited! Grab your boots and join us for this exciting mushroom discovery hour!
URL:https://www.villagegreencashiersnc.com/event/village-nature-series-3-2024-06-25/
LOCATION:Lewis Hall at The Village Green\, 160 Frank Allen Road\, Cashiers\, NC\, 28717\, United States
ATTACH;FMTTYPE=image/png:https://www.villagegreencashiersnc.com/wp-content/uploads/2024/04/Village-Nature-Series.png
END:VEVENT
BEGIN:VEVENT
DTSTART;TZID=America/New_York:20241013T100000
DTEND;TZID=America/New_York:20241013T170000
DTSTAMP:20260421T011024
CREATED:20240108T203455Z
LAST-MODIFIED:20240402T203048Z
UID:4642-1728813600-1728838800@www.villagegreencashiersnc.com
SUMMARY:Cashiers Valley Leaf Festival
DESCRIPTION:This fall festival celebrates the leaves beginning to change in the beautiful mountain village of Cashiers\, NC! This popular and FREE community event welcomes 90 local and regional artisans to the park. Visitors to the festival will find unique handcrafted products such as wood\, pottery\, jewelry\, textiles\, fine art\, and much more on display and for sale throughout the weekend. Visitors are able to meet the artists who create their goods from start to finish. Food\, drink\, and live music add to the festive spirit of the event! The Cashiers Valley Leaf Festival will be held Friday through Sunday\, October 11-13\, 2024. \nThe Village Green’s hand painted glass Christmas ornaments will be available for purchase throughout the weekend at The Village Green’s tent! \nHours & Dates: \nFriday\, October 11th: 10am-5pm \nSaturday\, October 12th: 10am-5pm \nSunday\, October 13th: 10am-3pm
URL:https://www.villagegreencashiersnc.com/event/cashiers-valley-leaf-festival-4/2024-10-13/
LOCATION:Gazebo and Lawn\, 35 Highway 64 West\, Cashiers\, NC\, 28717\, United States
ATTACH;FMTTYPE=image/jpeg:https://www.villagegreencashiersnc.com/wp-content/uploads/2022/12/Cashiers-Leaf-Festival-Courtesy-JCTDA-011-copy-e1722277237945.jpg
ORGANIZER;CN="The Village Green of Cashiers":MAILTO:Shelby@cashiersgreen.com
END:VEVENT
END:VCALENDAR