BEGIN:VCALENDAR
VERSION:2.0
PRODID:-//The Village Green Of Cashiers - ECPv6.15.13//NONSGML v1.0//EN
CALSCALE:GREGORIAN
METHOD:PUBLISH
X-WR-CALNAME:The Village Green Of Cashiers
X-ORIGINAL-URL:https://www.villagegreencashiersnc.com
X-WR-CALDESC:Events for The Village Green Of Cashiers
REFRESH-INTERVAL;VALUE=DURATION:PT1H
X-Robots-Tag:noindex
X-PUBLISHED-TTL:PT1H
BEGIN:VTIMEZONE
TZID:America/New_York
BEGIN:DAYLIGHT
TZOFFSETFROM:-0500
TZOFFSETTO:-0400
TZNAME:EDT
DTSTART:20200308T070000
END:DAYLIGHT
BEGIN:STANDARD
TZOFFSETFROM:-0400
TZOFFSETTO:-0500
TZNAME:EST
DTSTART:20201101T060000
END:STANDARD
BEGIN:DAYLIGHT
TZOFFSETFROM:-0500
TZOFFSETTO:-0400
TZNAME:EDT
DTSTART:20210314T070000
END:DAYLIGHT
BEGIN:STANDARD
TZOFFSETFROM:-0400
TZOFFSETTO:-0500
TZNAME:EST
DTSTART:20211107T060000
END:STANDARD
BEGIN:DAYLIGHT
TZOFFSETFROM:-0500
TZOFFSETTO:-0400
TZNAME:EDT
DTSTART:20220313T070000
END:DAYLIGHT
BEGIN:STANDARD
TZOFFSETFROM:-0400
TZOFFSETTO:-0500
TZNAME:EST
DTSTART:20221106T060000
END:STANDARD
END:VTIMEZONE
BEGIN:VEVENT
DTSTART;TZID=America/New_York:20210717T130000
DTEND;TZID=America/New_York:20210717T140000
DTSTAMP:20260420T220944
CREATED:20210608T184813Z
LAST-MODIFIED:20210709T170739Z
UID:2622-1626526800-1626530400@www.villagegreencashiersnc.com
SUMMARY:The Dahlia Doctor Is In with Drew English
DESCRIPTION:Join Drew English\, aka the Cashiers “Dahlia Doctor\,” for a tour of The Village Green Dahlia Garden.  Learn his secrets and tips for growing award-winning dahlias in your garden. \n1-2 p.m. Saturday\, July 17 at the Commons (Village Green Shops\, pop-up boutiques) \nThis event is free\, but registration is required. Send us an email to director@cashiersgreen.com to RSVP to this special invitation. \n 
URL:https://www.villagegreencashiersnc.com/event/the-dahlia-doctor-is-in-with-drew-english/
LOCATION:The Commons
CATEGORIES:Educational Program,Workshop
ATTACH;FMTTYPE=image/jpeg:https://www.villagegreencashiersnc.com/wp-content/uploads/2021/06/IMG_2933.jpeg
END:VEVENT
END:VCALENDAR