BEGIN:VCALENDAR
VERSION:2.0
PRODID:-//The Village Green Of Cashiers - ECPv6.15.13//NONSGML v1.0//EN
CALSCALE:GREGORIAN
METHOD:PUBLISH
X-WR-CALNAME:The Village Green Of Cashiers
X-ORIGINAL-URL:https://www.villagegreencashiersnc.com
X-WR-CALDESC:Events for The Village Green Of Cashiers
REFRESH-INTERVAL;VALUE=DURATION:PT1H
X-Robots-Tag:noindex
X-PUBLISHED-TTL:PT1H
BEGIN:VTIMEZONE
TZID:America/New_York
BEGIN:DAYLIGHT
TZOFFSETFROM:-0500
TZOFFSETTO:-0400
TZNAME:EDT
DTSTART:20200308T070000
END:DAYLIGHT
BEGIN:STANDARD
TZOFFSETFROM:-0400
TZOFFSETTO:-0500
TZNAME:EST
DTSTART:20201101T060000
END:STANDARD
BEGIN:DAYLIGHT
TZOFFSETFROM:-0500
TZOFFSETTO:-0400
TZNAME:EDT
DTSTART:20210314T070000
END:DAYLIGHT
BEGIN:STANDARD
TZOFFSETFROM:-0400
TZOFFSETTO:-0500
TZNAME:EST
DTSTART:20211107T060000
END:STANDARD
BEGIN:DAYLIGHT
TZOFFSETFROM:-0500
TZOFFSETTO:-0400
TZNAME:EDT
DTSTART:20220313T070000
END:DAYLIGHT
BEGIN:STANDARD
TZOFFSETFROM:-0400
TZOFFSETTO:-0500
TZNAME:EST
DTSTART:20221106T060000
END:STANDARD
END:VTIMEZONE
BEGIN:VEVENT
DTSTART;TZID=America/New_York:20210716T130000
DTEND;TZID=America/New_York:20210716T140000
DTSTAMP:20260423T075316
CREATED:20210608T173139Z
LAST-MODIFIED:20210628T201626Z
UID:2613-1626440400-1626444000@www.villagegreencashiersnc.com
SUMMARY:Making Bath Time Fizz\, Fun\, Fabulous with Carolina Shores Natural Soap
DESCRIPTION:Children\, accompanied by their parents or an adult to help\, will create their own bath jar with Carolina Shores Natural Soaps.  Learn about the therapeutic benefits of the all-natural fizzy components. \n1-2 p.m. Friday\, July 16 at the Commons (Village Green Shops)\, $20 per child  Reservations required.  Email director@cashiersgreen.com to register. \nGood\, clean fun! (Rubber Duckie\, optional)
URL:https://www.villagegreencashiersnc.com/event/making-bath-time-fizz-fun-fabulous-with-carolina-shores-natural-soap/
LOCATION:The Commons
CATEGORIES:Workshop
ATTACH;FMTTYPE=image/jpeg:https://www.villagegreencashiersnc.com/wp-content/uploads/2021/06/making_bath_time_fun.jpg
END:VEVENT
BEGIN:VEVENT
DTSTART;TZID=America/New_York:20210716T170000
DTEND;TZID=America/New_York:20210716T180000
DTSTAMP:20260423T075316
CREATED:20210608T162805Z
LAST-MODIFIED:20210624T171724Z
UID:2608-1626454800-1626458400@www.villagegreencashiersnc.com
SUMMARY:Pouring the Garden In a Glass with Mary Palmer Dargan
DESCRIPTION:Join us at 5 p.m. Friday\, July 16 at the Commons under the Village Green Shops grand tent for a unique twist on Happy Hour!  Cashiers treasure Mary Palmer Dargan will demonstrate how to forage ingredients from the garden to make delicious and refreshing beverages. Mary Palmer is not only an award-winning landscape architect and author who designs gardens to create a lifestyle.  She has designed many of the beautiful therapeutic gardens in The Village Green. \nThis event is free\, however a reservation is required.  Email director@cashiersgreen.com to send your RSVP to this special invitation.
URL:https://www.villagegreencashiersnc.com/event/pouring-the-garden-in-a-glass-with-mary-palmer-dargan/
LOCATION:The Commons
CATEGORIES:Workshop
ATTACH;FMTTYPE=image/jpeg:https://www.villagegreencashiersnc.com/wp-content/uploads/2021/06/40109049_m.jpg
END:VEVENT
BEGIN:VEVENT
DTSTART;TZID=America/New_York:20210717T130000
DTEND;TZID=America/New_York:20210717T140000
DTSTAMP:20260423T075316
CREATED:20210608T184813Z
LAST-MODIFIED:20210709T170739Z
UID:2622-1626526800-1626530400@www.villagegreencashiersnc.com
SUMMARY:The Dahlia Doctor Is In with Drew English
DESCRIPTION:Join Drew English\, aka the Cashiers “Dahlia Doctor\,” for a tour of The Village Green Dahlia Garden.  Learn his secrets and tips for growing award-winning dahlias in your garden. \n1-2 p.m. Saturday\, July 17 at the Commons (Village Green Shops\, pop-up boutiques) \nThis event is free\, but registration is required. Send us an email to director@cashiersgreen.com to RSVP to this special invitation. \n 
URL:https://www.villagegreencashiersnc.com/event/the-dahlia-doctor-is-in-with-drew-english/
LOCATION:The Commons
CATEGORIES:Educational Program,Workshop
ATTACH;FMTTYPE=image/jpeg:https://www.villagegreencashiersnc.com/wp-content/uploads/2021/06/IMG_2933.jpeg
END:VEVENT
END:VCALENDAR