BEGIN:VCALENDAR
VERSION:2.0
PRODID:-//The Village Green Of Cashiers - ECPv6.15.13//NONSGML v1.0//EN
CALSCALE:GREGORIAN
METHOD:PUBLISH
X-WR-CALNAME:The Village Green Of Cashiers
X-ORIGINAL-URL:https://www.villagegreencashiersnc.com
X-WR-CALDESC:Events for The Village Green Of Cashiers
REFRESH-INTERVAL;VALUE=DURATION:PT1H
X-Robots-Tag:noindex
X-PUBLISHED-TTL:PT1H
BEGIN:VTIMEZONE
TZID:America/New_York
BEGIN:DAYLIGHT
TZOFFSETFROM:-0500
TZOFFSETTO:-0400
TZNAME:EDT
DTSTART:20230312T070000
END:DAYLIGHT
BEGIN:STANDARD
TZOFFSETFROM:-0400
TZOFFSETTO:-0500
TZNAME:EST
DTSTART:20231105T060000
END:STANDARD
BEGIN:DAYLIGHT
TZOFFSETFROM:-0500
TZOFFSETTO:-0400
TZNAME:EDT
DTSTART:20240310T070000
END:DAYLIGHT
BEGIN:STANDARD
TZOFFSETFROM:-0400
TZOFFSETTO:-0500
TZNAME:EST
DTSTART:20241103T060000
END:STANDARD
BEGIN:DAYLIGHT
TZOFFSETFROM:-0500
TZOFFSETTO:-0400
TZNAME:EDT
DTSTART:20250309T070000
END:DAYLIGHT
BEGIN:STANDARD
TZOFFSETFROM:-0400
TZOFFSETTO:-0500
TZNAME:EST
DTSTART:20251102T060000
END:STANDARD
END:VTIMEZONE
BEGIN:VEVENT
DTSTART;TZID=America/New_York:20240531T180000
DTEND;TZID=America/New_York:20240531T203000
DTSTAMP:20260420T153519
CREATED:20240109T174911Z
LAST-MODIFIED:20240207T224207Z
UID:4652-1717178400-1717187400@www.villagegreencashiersnc.com
SUMMARY:Groovin' on The Green featuring Kevin Daniel + The Bottom Line
DESCRIPTION:A dynamic performer\, playing 100-150 shows per year\, Kevin Daniel’s music has been described as “radio and TV ready with enough darkness creeping in around the edges to appeal to fans of Jason Isbell & Langhorne Slim.” On his two early EPs\, his 2019 debut album Things I Don’t See\, and his 2021 follow-up\, Been Here Before\, Daniel showcases a masterful ability as a songwriter to seamlessly incorporate bits of rock\, soul\, country\, blues\, roots and Appalachia into thoughtful examination of pain and awakenings\, visceral and spiritual. A big-voiced crooner with a heart of gold\, Kevin strikes a chord with “his raw and soulful\, Chris Stapleton-esque timbre.” \nGroovin’ on The Green is held rain or shine from 6-8:30pm on the Common’s Lawn. This is a FREE community event; no registration is necessary. Bring your dancing shoes\, lawn chairs\, picnics and cooler for a night of unforgettable musical experiences! Dogs are welcome if they are leashed and with their owners at all times. \nFood and beverage vendors will be onsite during the event! \nDonations are collected by The Village Green during the event to help offset event costs and to be able to continue to offer Groovin’ on The Green for FREE. The Village Green is a 501c3 nonprofit public park system that relies solely on donations to bring the community events we have all come to cherish. TVG receives zero funds from Jackson County\, the state of NC\, or the Federal Park System. We thank you for supporting The Village Green!
URL:https://www.villagegreencashiersnc.com/event/groovin-on-the-green-featuring-kevin-daniel-the-bottom-line/
LOCATION:Common’s Lawn\, 160 Frank Allen Road\, Cashiers\, NC\, 28717\, United States
ATTACH;FMTTYPE=image/jpeg:https://www.villagegreencashiersnc.com/wp-content/uploads/2024/01/KevinDanielBand.jpg
ORGANIZER;CN="The Village Green of Cashiers":MAILTO:Shelby@cashiersgreen.com
END:VEVENT
BEGIN:VEVENT
DTSTART;TZID=America/New_York:20240605T110000
DTEND;TZID=America/New_York:20240605T150000
DTSTAMP:20260420T153519
CREATED:20240201T211548Z
LAST-MODIFIED:20240207T222229Z
UID:4759-1717585200-1717599600@www.villagegreencashiersnc.com
SUMMARY:Locally Grown on The Green Farmers Market
DESCRIPTION:  \n  \nNew Time\, Same Market! \nChoose the food less traveled at the Green Market\, Cashiers farm stand market for local growers. The market is “producer-only” meaning that the vendor must be the grower or producer of ALL the products they sell. Vendors must produce within a 100-mile radius of Cashiers. That means that the season for each fruit and vegetable is longer. Shopping at the Green Market provides a forum for learning how food is grown\, who grew it\, and why it tastes so good. \nFill your basket with naturally raised meat and dairy items\, fresh eggs\, jams\, pickles\, freshly baked bread and delicious granola.  Set your table with fresh cut flowers or plant your entryway with locally grown perennials.  Always fresh.  Always local. \nLocally Grown On the Green | 11AM – 3PM\nEvery Wednesday May 1 – October 30th\nThe Village Green Commons\nFree
URL:https://www.villagegreencashiersnc.com/event/locally-grown-on-the-green-farmers-market-2024-06-05/
LOCATION:Common’s Lawn\, 160 Frank Allen Road\, Cashiers\, NC\, 28717\, United States
ATTACH;FMTTYPE=image/png:https://www.villagegreencashiersnc.com/wp-content/uploads/2024/02/Untitled-design-10-copy-4.png
ORGANIZER;CN="The Village Green of Cashiers":MAILTO:Shelby@cashiersgreen.com
END:VEVENT
BEGIN:VEVENT
DTSTART;TZID=America/New_York:20240607T180000
DTEND;TZID=America/New_York:20240607T203000
DTSTAMP:20260420T153519
CREATED:20240109T175638Z
LAST-MODIFIED:20240605T162042Z
UID:4654-1717783200-1717792200@www.villagegreencashiersnc.com
SUMMARY:Groovin' on The Green featuring Nero Simon + The Sunsetters
DESCRIPTION:Join us for an evening with Nero Simon and the Sunsetters! The band brings “Coastal Americana” music to the mountains\, performing classic rock and folk-style original songs along with an array of classic covers true to the originals. The Sunsetters weave stories of love and heartbreak inspired by the coast\, from Gulf Shores to 30A all the way south to the Florida Keys. Lead singers Nero Simon and MaryAnn Ooten’s renditions of classic songs by James Taylor\, Jimmy Buffett\, Linda Ronstadt\, Fleetwood Mac and Bob Marley will have you singing along\, backed by a 7-piece band with a sound that is destined to warm the heart of every listener. \nGroovin’ on The Green is held rain or shine from 6-8:30pm on the Common’s Lawn. This is a FREE community event; no registration is necessary. Bring your dancing shoes\, lawn chairs\, picnics and cooler for a night of unforgettable musical experiences! Dogs are welcome if they are leashed and with their owners at all times. \nFood and beverage vendors will be onsite during the event! \nDonations are collected by The Village Green during the event to help offset event costs and to be able to continue to offer Groovin’ on The Green for FREE. The Village Green is a 501c3 nonprofit public park system that relies solely on donations to bring the community events we have all come to cherish. TVG receives zero funds from Jackson County\, the state of NC\, or the Federal Park System. We thank you for supporting The Village Green!
URL:https://www.villagegreencashiersnc.com/event/groovin-on-the-green-featuring-nero-simon-the-sunsetters/
LOCATION:Common’s Lawn\, 160 Frank Allen Road\, Cashiers\, NC\, 28717\, United States
ATTACH;FMTTYPE=image/jpeg:https://www.villagegreencashiersnc.com/wp-content/uploads/2024/01/IMG_5471.jpg
ORGANIZER;CN="The Village Green of Cashiers":MAILTO:Shelby@cashiersgreen.com
END:VEVENT
BEGIN:VEVENT
DTSTART;TZID=America/New_York:20240612T110000
DTEND;TZID=America/New_York:20240612T150000
DTSTAMP:20260420T153519
CREATED:20240201T211548Z
LAST-MODIFIED:20240411T163056Z
UID:4761-1718190000-1718204400@www.villagegreencashiersnc.com
SUMMARY:Locally Grown on The Green Farmers Market
DESCRIPTION:New Time\, Same Market! \nChoose the food less traveled at the Green Market\, Cashiers farm stand market for local growers. The market is “producer-only” meaning that the vendor must be the grower or producer of ALL the products they sell. Vendors must produce within a 100-mile radius of Cashiers. That means that the season for each fruit and vegetable is longer. Shopping at the Green Market provides a forum for learning how food is grown\, who grew it\, and why it tastes so good. \nFill your basket with naturally raised meat and dairy items\, fresh eggs\, jams\, pickles\, freshly baked bread and delicious granola.  Set your table with fresh cut flowers or plant your entryway with locally grown perennials.  Always fresh.  Always local. \nLocally Grown On the Green | 11AM – 3PM\nEvery Wednesday May 1 – October 30th\nThe Village Green Commons\nFree
URL:https://www.villagegreencashiersnc.com/event/locally-grown-on-the-green-farmers-market/2024-06-12/
LOCATION:Common’s Lawn\, 160 Frank Allen Road\, Cashiers\, NC\, 28717\, United States
ATTACH;FMTTYPE=image/png:https://www.villagegreencashiersnc.com/wp-content/uploads/2024/02/Untitled-design-10-copy-4.png
ORGANIZER;CN="The Village Green of Cashiers":MAILTO:Shelby@cashiersgreen.com
END:VEVENT
BEGIN:VEVENT
DTSTART;TZID=America/New_York:20240619T110000
DTEND;TZID=America/New_York:20240619T150000
DTSTAMP:20260420T153519
CREATED:20240201T211548Z
LAST-MODIFIED:20240411T163057Z
UID:4763-1718794800-1718809200@www.villagegreencashiersnc.com
SUMMARY:Locally Grown on The Green Farmers Market
DESCRIPTION:New Time\, Same Market! \nChoose the food less traveled at the Green Market\, Cashiers farm stand market for local growers. The market is “producer-only” meaning that the vendor must be the grower or producer of ALL the products they sell. Vendors must produce within a 100-mile radius of Cashiers. That means that the season for each fruit and vegetable is longer. Shopping at the Green Market provides a forum for learning how food is grown\, who grew it\, and why it tastes so good. \nFill your basket with naturally raised meat and dairy items\, fresh eggs\, jams\, pickles\, freshly baked bread and delicious granola.  Set your table with fresh cut flowers or plant your entryway with locally grown perennials.  Always fresh.  Always local. \nLocally Grown On the Green | 11AM – 3PM\nEvery Wednesday May 1 – October 30th\nThe Village Green Commons\nFree
URL:https://www.villagegreencashiersnc.com/event/locally-grown-on-the-green-farmers-market/2024-06-19/
LOCATION:Common’s Lawn\, 160 Frank Allen Road\, Cashiers\, NC\, 28717\, United States
ATTACH;FMTTYPE=image/png:https://www.villagegreencashiersnc.com/wp-content/uploads/2024/02/Untitled-design-10-copy-4.png
ORGANIZER;CN="The Village Green of Cashiers":MAILTO:Shelby@cashiersgreen.com
END:VEVENT
END:VCALENDAR