BEGIN:VCALENDAR
VERSION:2.0
PRODID:-//The Village Green Of Cashiers - ECPv6.15.13//NONSGML v1.0//EN
CALSCALE:GREGORIAN
METHOD:PUBLISH
X-WR-CALNAME:The Village Green Of Cashiers
X-ORIGINAL-URL:https://www.villagegreencashiersnc.com
X-WR-CALDESC:Events for The Village Green Of Cashiers
REFRESH-INTERVAL;VALUE=DURATION:PT1H
X-Robots-Tag:noindex
X-PUBLISHED-TTL:PT1H
BEGIN:VTIMEZONE
TZID:America/New_York
BEGIN:DAYLIGHT
TZOFFSETFROM:-0500
TZOFFSETTO:-0400
TZNAME:EDT
DTSTART:20230312T070000
END:DAYLIGHT
BEGIN:STANDARD
TZOFFSETFROM:-0400
TZOFFSETTO:-0500
TZNAME:EST
DTSTART:20231105T060000
END:STANDARD
BEGIN:DAYLIGHT
TZOFFSETFROM:-0500
TZOFFSETTO:-0400
TZNAME:EDT
DTSTART:20240310T070000
END:DAYLIGHT
BEGIN:STANDARD
TZOFFSETFROM:-0400
TZOFFSETTO:-0500
TZNAME:EST
DTSTART:20241103T060000
END:STANDARD
BEGIN:DAYLIGHT
TZOFFSETFROM:-0500
TZOFFSETTO:-0400
TZNAME:EDT
DTSTART:20250309T070000
END:DAYLIGHT
BEGIN:STANDARD
TZOFFSETFROM:-0400
TZOFFSETTO:-0500
TZNAME:EST
DTSTART:20251102T060000
END:STANDARD
END:VTIMEZONE
BEGIN:VEVENT
DTSTART;TZID=America/New_York:20240716T170000
DTEND;TZID=America/New_York:20240716T190000
DTSTAMP:20260422T041542
CREATED:20230428T131949Z
LAST-MODIFIED:20240207T203434Z
UID:4150-1721149200-1721156400@www.villagegreencashiersnc.com
SUMMARY:Highlands-Cashiers Chamber Music Festival
DESCRIPTION:“Variety is the Spice of Life” – 5 PM  $40/person\nClarinet Variations – Rossini \nFlute Variations – Schubert \nViolin Variations – Paganini \nSymphonic Etudes\, Variations for piano solo – Schumann \n*Players – James Zellers\, flute; Jesse McCandless\, clarinet; Yuriy Bekker\, violin; Jasmin Arakawa\, piano
URL:https://www.villagegreencashiersnc.com/event/highlands-cashiers-chamber-music-festival-2023-07-23/
LOCATION:Lewis Hall at The Village Green\, 160 Frank Allen Road\, Cashiers\, NC\, 28717\, United States
CATEGORIES:Music
ATTACH;FMTTYPE=image/jpeg:https://www.villagegreencashiersnc.com/wp-content/uploads/2023/04/photo-week2.jpeg
ORGANIZER;CN="Highlands Cashiers Chamber Music Festival":MAILTO:hccmfnc@gmail.com
END:VEVENT
BEGIN:VEVENT
DTSTART;TZID=America/New_York:20240717T110000
DTEND;TZID=America/New_York:20240717T150000
DTSTAMP:20260422T041542
CREATED:20240201T211548Z
LAST-MODIFIED:20240411T163101Z
UID:4771-1721214000-1721228400@www.villagegreencashiersnc.com
SUMMARY:Locally Grown on The Green Farmers Market
DESCRIPTION:New Time\, Same Market! \nChoose the food less traveled at the Green Market\, Cashiers farm stand market for local growers. The market is “producer-only” meaning that the vendor must be the grower or producer of ALL the products they sell. Vendors must produce within a 100-mile radius of Cashiers. That means that the season for each fruit and vegetable is longer. Shopping at the Green Market provides a forum for learning how food is grown\, who grew it\, and why it tastes so good. \nFill your basket with naturally raised meat and dairy items\, fresh eggs\, jams\, pickles\, freshly baked bread and delicious granola.  Set your table with fresh cut flowers or plant your entryway with locally grown perennials.  Always fresh.  Always local. \nLocally Grown On the Green | 11AM – 3PM\nEvery Wednesday May 1 – October 30th\nThe Village Green Commons\nFree
URL:https://www.villagegreencashiersnc.com/event/locally-grown-on-the-green-farmers-market/2024-07-17/
LOCATION:Common’s Lawn\, 160 Frank Allen Road\, Cashiers\, NC\, 28717\, United States
ATTACH;FMTTYPE=image/png:https://www.villagegreencashiersnc.com/wp-content/uploads/2024/02/Untitled-design-10-copy-4.png
ORGANIZER;CN="The Village Green of Cashiers":MAILTO:Shelby@cashiersgreen.com
END:VEVENT
END:VCALENDAR