BEGIN:VCALENDAR
VERSION:2.0
PRODID:-//The Village Green Of Cashiers - ECPv6.15.13//NONSGML v1.0//EN
CALSCALE:GREGORIAN
METHOD:PUBLISH
X-WR-CALNAME:The Village Green Of Cashiers
X-ORIGINAL-URL:https://www.villagegreencashiersnc.com
X-WR-CALDESC:Events for The Village Green Of Cashiers
REFRESH-INTERVAL;VALUE=DURATION:PT1H
X-Robots-Tag:noindex
X-PUBLISHED-TTL:PT1H
BEGIN:VTIMEZONE
TZID:America/New_York
BEGIN:DAYLIGHT
TZOFFSETFROM:-0500
TZOFFSETTO:-0400
TZNAME:EDT
DTSTART:20230312T070000
END:DAYLIGHT
BEGIN:STANDARD
TZOFFSETFROM:-0400
TZOFFSETTO:-0500
TZNAME:EST
DTSTART:20231105T060000
END:STANDARD
BEGIN:DAYLIGHT
TZOFFSETFROM:-0500
TZOFFSETTO:-0400
TZNAME:EDT
DTSTART:20240310T070000
END:DAYLIGHT
BEGIN:STANDARD
TZOFFSETFROM:-0400
TZOFFSETTO:-0500
TZNAME:EST
DTSTART:20241103T060000
END:STANDARD
BEGIN:DAYLIGHT
TZOFFSETFROM:-0500
TZOFFSETTO:-0400
TZNAME:EDT
DTSTART:20250309T070000
END:DAYLIGHT
BEGIN:STANDARD
TZOFFSETFROM:-0400
TZOFFSETTO:-0500
TZNAME:EST
DTSTART:20251102T060000
END:STANDARD
END:VTIMEZONE
BEGIN:VEVENT
DTSTART;TZID=America/New_York:20240716T170000
DTEND;TZID=America/New_York:20240716T190000
DTSTAMP:20260423T072236
CREATED:20230428T131949Z
LAST-MODIFIED:20240207T203434Z
UID:4150-1721149200-1721156400@www.villagegreencashiersnc.com
SUMMARY:Highlands-Cashiers Chamber Music Festival
DESCRIPTION:“Variety is the Spice of Life” – 5 PM  $40/person\nClarinet Variations – Rossini \nFlute Variations – Schubert \nViolin Variations – Paganini \nSymphonic Etudes\, Variations for piano solo – Schumann \n*Players – James Zellers\, flute; Jesse McCandless\, clarinet; Yuriy Bekker\, violin; Jasmin Arakawa\, piano
URL:https://www.villagegreencashiersnc.com/event/highlands-cashiers-chamber-music-festival-2023-07-23/
LOCATION:Lewis Hall at The Village Green\, 160 Frank Allen Road\, Cashiers\, NC\, 28717\, United States
CATEGORIES:Music
ATTACH;FMTTYPE=image/jpeg:https://www.villagegreencashiersnc.com/wp-content/uploads/2023/04/photo-week2.jpeg
ORGANIZER;CN="Highlands Cashiers Chamber Music Festival":MAILTO:hccmfnc@gmail.com
END:VEVENT
BEGIN:VEVENT
DTSTART;TZID=America/New_York:20240717T110000
DTEND;TZID=America/New_York:20240717T150000
DTSTAMP:20260423T072236
CREATED:20240201T211548Z
LAST-MODIFIED:20240411T163101Z
UID:4771-1721214000-1721228400@www.villagegreencashiersnc.com
SUMMARY:Locally Grown on The Green Farmers Market
DESCRIPTION:New Time\, Same Market! \nChoose the food less traveled at the Green Market\, Cashiers farm stand market for local growers. The market is “producer-only” meaning that the vendor must be the grower or producer of ALL the products they sell. Vendors must produce within a 100-mile radius of Cashiers. That means that the season for each fruit and vegetable is longer. Shopping at the Green Market provides a forum for learning how food is grown\, who grew it\, and why it tastes so good. \nFill your basket with naturally raised meat and dairy items\, fresh eggs\, jams\, pickles\, freshly baked bread and delicious granola.  Set your table with fresh cut flowers or plant your entryway with locally grown perennials.  Always fresh.  Always local. \nLocally Grown On the Green | 11AM – 3PM\nEvery Wednesday May 1 – October 30th\nThe Village Green Commons\nFree
URL:https://www.villagegreencashiersnc.com/event/locally-grown-on-the-green-farmers-market/2024-07-17/
LOCATION:Common’s Lawn\, 160 Frank Allen Road\, Cashiers\, NC\, 28717\, United States
ATTACH;FMTTYPE=image/png:https://www.villagegreencashiersnc.com/wp-content/uploads/2024/02/Untitled-design-10-copy-4.png
ORGANIZER;CN="The Village Green of Cashiers":MAILTO:Shelby@cashiersgreen.com
END:VEVENT
BEGIN:VEVENT
DTSTART;TZID=America/New_York:20240719T180000
DTEND;TZID=America/New_York:20240719T203000
DTSTAMP:20260423T072236
CREATED:20240109T182237Z
LAST-MODIFIED:20240207T224528Z
UID:4659-1721412000-1721421000@www.villagegreencashiersnc.com
SUMMARY:Groovin' on The Green featuring The Wobblers
DESCRIPTION:The Wobblers\, going into their 12th year in 2024 are a South Carolina\, eight-piece\, genre defying\, roots band pulling from New Orleans rhythms\, and including elements of Memphis Soul\, Chicago Blues\, with heavy Hammond organ and brassy horns. \nThe band includes a 4-piece horn section\, piano\, organ\, guitar\, bass and drums\, and plays about half original music\, and half eclectic soul infused rearranged covers\, (the song list is…. long. very very long) and has performed locally and regionally for the last 11 or so years and has developed a cult following as one of Upstate South Carolina’s most original sounding bands. \nGroovin’ on The Green is held rain or shine from 6-8:30pm on the Common’s Lawn. This is a FREE community event; no registration is necessary. Bring your dancing shoes\, lawn chairs\, picnics and cooler for a night of unforgettable musical experiences! Dogs are welcome if they are leashed and with their owners at all times. \nFood and beverage vendors will be onsite during the event! \nDonations are collected by The Village Green during the event to help offset event costs and to be able to continue to offer Groovin’ on The Green for FREE. The Village Green is a 501c3 nonprofit public park system that relies solely on donations to bring the community events we have all come to cherish. TVG receives zero funds from Jackson County\, the state of NC\, or the Federal Park System. We thank you for supporting The Village Green! \n 
URL:https://www.villagegreencashiersnc.com/event/groovin-on-the-green-featuring-the-wobblers/
LOCATION:Common’s Lawn\, 160 Frank Allen Road\, Cashiers\, NC\, 28717\, United States
ATTACH;FMTTYPE=image/jpeg:https://www.villagegreencashiersnc.com/wp-content/uploads/2024/01/TheWobblers.jpg
ORGANIZER;CN="The Village Green of Cashiers":MAILTO:Shelby@cashiersgreen.com
END:VEVENT
BEGIN:VEVENT
DTSTART;TZID=America/New_York:20240721T170000
DTEND;TZID=America/New_York:20240721T190000
DTSTAMP:20260423T072236
CREATED:20230428T131951Z
LAST-MODIFIED:20240207T203753Z
UID:4151-1721581200-1721588400@www.villagegreencashiersnc.com
SUMMARY:Highlands-Cashiers Chamber Music Festival
DESCRIPTION:“Quartet for the End of Time” (by Olivier Messiaen) – 5PM $40\nClarinet Trio – Brahms \n*Players: David Shifrin\, clarinet; Zuill Bailey\, cello; Victor Asuncion\, piano; Risa Hokamura\, violin
URL:https://www.villagegreencashiersnc.com/event/highlands-cashiers-chamber-music-festival-2023-07-30/
LOCATION:Lewis Hall at The Village Green\, 160 Frank Allen Road\, Cashiers\, NC\, 28717\, United States
CATEGORIES:Music
ATTACH;FMTTYPE=image/jpeg:https://www.villagegreencashiersnc.com/wp-content/uploads/2023/04/photo-week3.jpeg
ORGANIZER;CN="Highlands Cashiers Chamber Music Festival":MAILTO:hccmfnc@gmail.com
END:VEVENT
BEGIN:VEVENT
DTSTART;TZID=America/New_York:20240723T170000
DTEND;TZID=America/New_York:20240723T190000
DTSTAMP:20260423T072236
CREATED:20230428T135122Z
LAST-MODIFIED:20240207T204321Z
UID:4181-1721754000-1721761200@www.villagegreencashiersnc.com
SUMMARY:Highlands-Cashiers Chamber Music Festival
DESCRIPTION:“Concerto Night”\nCello Concerto – Dvorak \nViolin Concerto – Brahms \n*Players: Zuill Bailey\, cello; Risa Hokamura\, violin; Victor Asuncion\, piano
URL:https://www.villagegreencashiersnc.com/event/highlands-cashiers-chamber-music-festival-2/
LOCATION:Lewis Hall at The Village Green\, 160 Frank Allen Road\, Cashiers\, NC\, 28717\, United States
CATEGORIES:Music
ATTACH;FMTTYPE=image/jpeg:https://www.villagegreencashiersnc.com/wp-content/uploads/2023/04/photo-week3.jpeg
ORGANIZER;CN="Highlands Cashiers Chamber Music Festival":MAILTO:hccmfnc@gmail.com
END:VEVENT
BEGIN:VEVENT
DTSTART;TZID=America/New_York:20240724T110000
DTEND;TZID=America/New_York:20240724T150000
DTSTAMP:20260423T072237
CREATED:20240201T211548Z
LAST-MODIFIED:20240411T163102Z
UID:4773-1721818800-1721833200@www.villagegreencashiersnc.com
SUMMARY:Locally Grown on The Green Farmers Market
DESCRIPTION:New Time\, Same Market! \nChoose the food less traveled at the Green Market\, Cashiers farm stand market for local growers. The market is “producer-only” meaning that the vendor must be the grower or producer of ALL the products they sell. Vendors must produce within a 100-mile radius of Cashiers. That means that the season for each fruit and vegetable is longer. Shopping at the Green Market provides a forum for learning how food is grown\, who grew it\, and why it tastes so good. \nFill your basket with naturally raised meat and dairy items\, fresh eggs\, jams\, pickles\, freshly baked bread and delicious granola.  Set your table with fresh cut flowers or plant your entryway with locally grown perennials.  Always fresh.  Always local. \nLocally Grown On the Green | 11AM – 3PM\nEvery Wednesday May 1 – October 30th\nThe Village Green Commons\nFree
URL:https://www.villagegreencashiersnc.com/event/locally-grown-on-the-green-farmers-market/2024-07-24/
LOCATION:Common’s Lawn\, 160 Frank Allen Road\, Cashiers\, NC\, 28717\, United States
ATTACH;FMTTYPE=image/png:https://www.villagegreencashiersnc.com/wp-content/uploads/2024/02/Untitled-design-10-copy-4.png
ORGANIZER;CN="The Village Green of Cashiers":MAILTO:Shelby@cashiersgreen.com
END:VEVENT
BEGIN:VEVENT
DTSTART;TZID=America/New_York:20240728T170000
DTEND;TZID=America/New_York:20240728T190000
DTSTAMP:20260423T072237
CREATED:20230428T135127Z
LAST-MODIFIED:20240222T133831Z
UID:4183-1722186000-1722193200@www.villagegreencashiersnc.com
SUMMARY:Highlands-Cashiers Chamber Music Festival
DESCRIPTION:“Chee-Yun – Solo!” – 5PM ($40)\nChee-Yun\, violín; Elizabeth Pridgen\, piano
URL:https://www.villagegreencashiersnc.com/event/highlands-cashiers-chamber-music-festival-2-2023-07-18/
LOCATION:Lewis Hall at The Village Green\, 160 Frank Allen Road\, Cashiers\, NC\, 28717\, United States
CATEGORIES:Music
ATTACH;FMTTYPE=image/jpeg:https://www.villagegreencashiersnc.com/wp-content/uploads/2023/04/photo-week4.jpeg
ORGANIZER;CN="Highlands Cashiers Chamber Music Festival":MAILTO:hccmfnc@gmail.com
END:VEVENT
BEGIN:VEVENT
DTSTART;TZID=America/New_York:20240730T170000
DTEND;TZID=America/New_York:20240730T190000
DTSTAMP:20260423T072237
CREATED:20230428T135128Z
LAST-MODIFIED:20240207T205219Z
UID:4184-1722358800-1722366000@www.villagegreencashiersnc.com
SUMMARY:Highlands-Cashiers Chamber Music Festival
DESCRIPTION:“Dover Quartet – Debut” – 5PM ($40)\nDover Quartet with Yinzi Kong\, viola
URL:https://www.villagegreencashiersnc.com/event/highlands-cashiers-chamber-music-festival-2-2023-07-25/
LOCATION:Lewis Hall at The Village Green\, 160 Frank Allen Road\, Cashiers\, NC\, 28717\, United States
CATEGORIES:Music
ATTACH;FMTTYPE=image/jpeg:https://www.villagegreencashiersnc.com/wp-content/uploads/2023/04/photo-week4.jpeg
END:VEVENT
BEGIN:VEVENT
DTSTART;TZID=America/New_York:20240731T110000
DTEND;TZID=America/New_York:20240731T150000
DTSTAMP:20260423T072237
CREATED:20240201T211548Z
LAST-MODIFIED:20240411T163107Z
UID:4775-1722423600-1722438000@www.villagegreencashiersnc.com
SUMMARY:Locally Grown on The Green Farmers Market
DESCRIPTION:New Time\, Same Market! \nChoose the food less traveled at the Green Market\, Cashiers farm stand market for local growers. The market is “producer-only” meaning that the vendor must be the grower or producer of ALL the products they sell. Vendors must produce within a 100-mile radius of Cashiers. That means that the season for each fruit and vegetable is longer. Shopping at the Green Market provides a forum for learning how food is grown\, who grew it\, and why it tastes so good. \nFill your basket with naturally raised meat and dairy items\, fresh eggs\, jams\, pickles\, freshly baked bread and delicious granola.  Set your table with fresh cut flowers or plant your entryway with locally grown perennials.  Always fresh.  Always local. \nLocally Grown On the Green | 11AM – 3PM\nEvery Wednesday May 1 – October 30th\nThe Village Green Commons\nFree
URL:https://www.villagegreencashiersnc.com/event/locally-grown-on-the-green-farmers-market/2024-07-31/
LOCATION:Common’s Lawn\, 160 Frank Allen Road\, Cashiers\, NC\, 28717\, United States
ATTACH;FMTTYPE=image/png:https://www.villagegreencashiersnc.com/wp-content/uploads/2024/02/Untitled-design-10-copy-4.png
ORGANIZER;CN="The Village Green of Cashiers":MAILTO:Shelby@cashiersgreen.com
END:VEVENT
BEGIN:VEVENT
DTSTART;TZID=America/New_York:20240731T173000
DTEND;TZID=America/New_York:20240731T183000
DTSTAMP:20260423T072237
CREATED:20240108T200844Z
LAST-MODIFIED:20240411T164746Z
UID:4625-1722447000-1722450600@www.villagegreencashiersnc.com
SUMMARY:Village Nature Series
DESCRIPTION:The Highlands-Cashiers Land Trust and The Village Green co-host a series of lectures each summer. Visitors and residents learn about wildlife\, habitats\, conservation\, and local cultural heritage from expert speakers in their fields! The Village Nature Series will begin at 5:30pm on the last Tuesday of each month (August’s presentation will be held on the 20th) from April through September at The Village Green in Cashiers. \nThank you to Cedar Creek Club for sponsoring the Village Nature Series! \nJuly 31st Presentation Description: Story is a conservation value that doesn’t drive most people’s ideas of evaluating and saving land. John Lane will discuss his latest book GULLIES OF MY PEOPLE in hopes of beginning a conversation about adding “restorying” to the index of conservation values. Lane knows through experience that stories are often lost as land changes land and status and creating narratives can reattach memories and events to places.
URL:https://www.villagegreencashiersnc.com/event/village-nature-series-3-2024-07-30/
LOCATION:Lewis Hall at The Village Green\, 160 Frank Allen Road\, Cashiers\, NC\, 28717\, United States
ATTACH;FMTTYPE=image/png:https://www.villagegreencashiersnc.com/wp-content/uploads/2024/04/Village-Nature-Series.png
END:VEVENT
BEGIN:VEVENT
DTSTART;TZID=America/New_York:20240802T180000
DTEND;TZID=America/New_York:20240802T203000
DTSTAMP:20260423T072237
CREATED:20240130T204820Z
LAST-MODIFIED:20240402T203548Z
UID:4707-1722621600-1722630600@www.villagegreencashiersnc.com
SUMMARY:Groovin' on The Green featuring Angela Easterling + The Beguilers
DESCRIPTION:Angela Easterling brandishes her songwriting chops with rootsy\, refreshing\, homespun tunes. Her backing band\, The Beguilers (bass\, drums and lead guitar)\, master many complex styles\, with instrumentation that fleshes out the stories in Angela’s songs\, and adds some rocking fun. Their act is not quite country\, not quite folk\, but all together unique and engaging. \nGroovin’ on The Green remains a vibrant\, free summer concert series at The Village Green! This outdoor concert series is held rain or shine on the Common’s Lawn! Lawn chairs and personal coolers are welcome. Dogs are welcome only if they are leashed and with their owners at all times. Food and beverage vendors will be onsite during the event! \nGroovin’ on The Green is free\, however\, The Village Green collects donations to help offset the cost of the event and bring the event free of charge for the community.
URL:https://www.villagegreencashiersnc.com/event/groovin-on-the-green-featuring-angela-easterling-the-beguilers/
LOCATION:Common’s Lawn\, 160 Frank Allen Road\, Cashiers\, NC\, 28717\, United States
ATTACH;FMTTYPE=image/jpeg:https://www.villagegreencashiersnc.com/wp-content/uploads/2024/01/AE_HR_126b-scaled.jpg
ORGANIZER;CN="The Village Green of Cashiers":MAILTO:Shelby@cashiersgreen.com
END:VEVENT
BEGIN:VEVENT
DTSTART;TZID=America/New_York:20240804T170000
DTEND;TZID=America/New_York:20240804T190000
DTSTAMP:20260423T072237
CREATED:20230428T135129Z
LAST-MODIFIED:20240222T133525Z
UID:4185-1722790800-1722798000@www.villagegreencashiersnc.com
SUMMARY:Highlands-Cashiers Chamber Music Festival
DESCRIPTION:“Viano Plus Piano” – 5PM ($40)\nPiano Quartet – Dvorak \n*Players – Viano String Quartet with William Ransom\, piano \n 
URL:https://www.villagegreencashiersnc.com/event/highlands-cashiers-chamber-music-festival-2-2023-08-01/
LOCATION:Lewis Hall at The Village Green\, 160 Frank Allen Road\, Cashiers\, NC\, 28717\, United States
CATEGORIES:Music
ATTACH;FMTTYPE=image/jpeg:https://www.villagegreencashiersnc.com/wp-content/uploads/2023/04/photo-week5.jpeg
ORGANIZER;CN="Highlands Cashiers Chamber Music Festival":MAILTO:hccmfnc@gmail.com
END:VEVENT
END:VCALENDAR