BEGIN:VCALENDAR
VERSION:2.0
PRODID:-//The Village Green Of Cashiers - ECPv6.15.13//NONSGML v1.0//EN
CALSCALE:GREGORIAN
METHOD:PUBLISH
X-WR-CALNAME:The Village Green Of Cashiers
X-ORIGINAL-URL:https://www.villagegreencashiersnc.com
X-WR-CALDESC:Events for The Village Green Of Cashiers
REFRESH-INTERVAL;VALUE=DURATION:PT1H
X-Robots-Tag:noindex
X-PUBLISHED-TTL:PT1H
BEGIN:VTIMEZONE
TZID:America/New_York
BEGIN:DAYLIGHT
TZOFFSETFROM:-0500
TZOFFSETTO:-0400
TZNAME:EDT
DTSTART:20230312T070000
END:DAYLIGHT
BEGIN:STANDARD
TZOFFSETFROM:-0400
TZOFFSETTO:-0500
TZNAME:EST
DTSTART:20231105T060000
END:STANDARD
BEGIN:DAYLIGHT
TZOFFSETFROM:-0500
TZOFFSETTO:-0400
TZNAME:EDT
DTSTART:20240310T070000
END:DAYLIGHT
BEGIN:STANDARD
TZOFFSETFROM:-0400
TZOFFSETTO:-0500
TZNAME:EST
DTSTART:20241103T060000
END:STANDARD
BEGIN:DAYLIGHT
TZOFFSETFROM:-0500
TZOFFSETTO:-0400
TZNAME:EDT
DTSTART:20250309T070000
END:DAYLIGHT
BEGIN:STANDARD
TZOFFSETFROM:-0400
TZOFFSETTO:-0500
TZNAME:EST
DTSTART:20251102T060000
END:STANDARD
END:VTIMEZONE
BEGIN:VEVENT
DTSTART;TZID=America/New_York:20240914T130000
DTEND;TZID=America/New_York:20240915T170000
DTSTAMP:20260422T185000
CREATED:20240820T152220Z
LAST-MODIFIED:20240912T125519Z
UID:5183-1726318800-1726419600@www.villagegreencashiersnc.com
SUMMARY:35th Annual Dahlia Show
DESCRIPTION:Join the Carolinas Dahlia Society for the 35th annual Dahlia Show\, a spectacular weekend celebrating the beauty of dahlias in Cashiers\, NC! \nFriday\, September 13th \n\nShow Set Up & Staging: 10am-9pm – Show Participants Only\n\nSaturday\, September 14th \n\nShow & Judging: 9am-12pm – Judges & Show Participants\nPublic Viewing: 1pm-5pm – Everyone Welcome!\n\nSunday\, September 15th \n\nPublic Viewing: 10am-2pm – Everyone Welcome!\n\nEvent Highlights: \n\nPublic Viewing: Marvel at the stunning dahlia exhibits and winners!\nBuds & Bouquets: Purchase a beautiful dahlia bouquet Saturday or on Sunday have a chance at one of the winning buds in a vase.\nEntry Fee: FREE\nParking: Ample free parking at The Village Green of Cashiers
URL:https://www.villagegreencashiersnc.com/event/35th-annual-dahlia-show/
LOCATION:Lewis Hall at The Village Green\, 160 Frank Allen Road\, Cashiers\, NC\, 28717\, United States
CATEGORIES:Community
ATTACH;FMTTYPE=image/jpeg:https://www.villagegreencashiersnc.com/wp-content/uploads/2021/03/11418573_m.jpg
END:VEVENT
BEGIN:VEVENT
DTSTART;TZID=America/New_York:20240918T110000
DTEND;TZID=America/New_York:20240918T150000
DTSTAMP:20260422T185000
CREATED:20240201T211548Z
LAST-MODIFIED:20240411T163112Z
UID:4789-1726657200-1726671600@www.villagegreencashiersnc.com
SUMMARY:Locally Grown on The Green Farmers Market
DESCRIPTION:New Time\, Same Market! \nChoose the food less traveled at the Green Market\, Cashiers farm stand market for local growers. The market is “producer-only” meaning that the vendor must be the grower or producer of ALL the products they sell. Vendors must produce within a 100-mile radius of Cashiers. That means that the season for each fruit and vegetable is longer. Shopping at the Green Market provides a forum for learning how food is grown\, who grew it\, and why it tastes so good. \nFill your basket with naturally raised meat and dairy items\, fresh eggs\, jams\, pickles\, freshly baked bread and delicious granola.  Set your table with fresh cut flowers or plant your entryway with locally grown perennials.  Always fresh.  Always local. \nLocally Grown On the Green | 11AM – 3PM\nEvery Wednesday May 1 – October 30th\nThe Village Green Commons\nFree
URL:https://www.villagegreencashiersnc.com/event/locally-grown-on-the-green-farmers-market/2024-09-18/
LOCATION:Common’s Lawn\, 160 Frank Allen Road\, Cashiers\, NC\, 28717\, United States
ATTACH;FMTTYPE=image/png:https://www.villagegreencashiersnc.com/wp-content/uploads/2024/02/Untitled-design-10-copy-4.png
ORGANIZER;CN="The Village Green of Cashiers":MAILTO:Shelby@cashiersgreen.com
END:VEVENT
BEGIN:VEVENT
DTSTART;TZID=America/New_York:20240925T110000
DTEND;TZID=America/New_York:20240925T150000
DTSTAMP:20260422T185000
CREATED:20240201T211548Z
LAST-MODIFIED:20240411T163112Z
UID:4791-1727262000-1727276400@www.villagegreencashiersnc.com
SUMMARY:Locally Grown on The Green Farmers Market
DESCRIPTION:New Time\, Same Market! \nChoose the food less traveled at the Green Market\, Cashiers farm stand market for local growers. The market is “producer-only” meaning that the vendor must be the grower or producer of ALL the products they sell. Vendors must produce within a 100-mile radius of Cashiers. That means that the season for each fruit and vegetable is longer. Shopping at the Green Market provides a forum for learning how food is grown\, who grew it\, and why it tastes so good. \nFill your basket with naturally raised meat and dairy items\, fresh eggs\, jams\, pickles\, freshly baked bread and delicious granola.  Set your table with fresh cut flowers or plant your entryway with locally grown perennials.  Always fresh.  Always local. \nLocally Grown On the Green | 11AM – 3PM\nEvery Wednesday May 1 – October 30th\nThe Village Green Commons\nFree
URL:https://www.villagegreencashiersnc.com/event/locally-grown-on-the-green-farmers-market/2024-09-25/
LOCATION:Common’s Lawn\, 160 Frank Allen Road\, Cashiers\, NC\, 28717\, United States
ATTACH;FMTTYPE=image/png:https://www.villagegreencashiersnc.com/wp-content/uploads/2024/02/Untitled-design-10-copy-4.png
ORGANIZER;CN="The Village Green of Cashiers":MAILTO:Shelby@cashiersgreen.com
END:VEVENT
BEGIN:VEVENT
DTSTART;TZID=America/New_York:20241002T110000
DTEND;TZID=America/New_York:20241002T150000
DTSTAMP:20260422T185000
CREATED:20240201T211548Z
LAST-MODIFIED:20240411T163113Z
UID:4793-1727866800-1727881200@www.villagegreencashiersnc.com
SUMMARY:Locally Grown on The Green Farmers Market
DESCRIPTION:New Time\, Same Market! \nChoose the food less traveled at the Green Market\, Cashiers farm stand market for local growers. The market is “producer-only” meaning that the vendor must be the grower or producer of ALL the products they sell. Vendors must produce within a 100-mile radius of Cashiers. That means that the season for each fruit and vegetable is longer. Shopping at the Green Market provides a forum for learning how food is grown\, who grew it\, and why it tastes so good. \nFill your basket with naturally raised meat and dairy items\, fresh eggs\, jams\, pickles\, freshly baked bread and delicious granola.  Set your table with fresh cut flowers or plant your entryway with locally grown perennials.  Always fresh.  Always local. \nLocally Grown On the Green | 11AM – 3PM\nEvery Wednesday May 1 – October 30th\nThe Village Green Commons\nFree
URL:https://www.villagegreencashiersnc.com/event/locally-grown-on-the-green-farmers-market/2024-10-02/
LOCATION:Common’s Lawn\, 160 Frank Allen Road\, Cashiers\, NC\, 28717\, United States
ATTACH;FMTTYPE=image/png:https://www.villagegreencashiersnc.com/wp-content/uploads/2024/02/Untitled-design-10-copy-4.png
ORGANIZER;CN="The Village Green of Cashiers":MAILTO:Shelby@cashiersgreen.com
END:VEVENT
BEGIN:VEVENT
DTSTART;TZID=America/New_York:20241009T110000
DTEND;TZID=America/New_York:20241009T150000
DTSTAMP:20260422T185000
CREATED:20240201T211548Z
LAST-MODIFIED:20240411T163114Z
UID:4795-1728471600-1728486000@www.villagegreencashiersnc.com
SUMMARY:Locally Grown on The Green Farmers Market
DESCRIPTION:New Time\, Same Market! \nChoose the food less traveled at the Green Market\, Cashiers farm stand market for local growers. The market is “producer-only” meaning that the vendor must be the grower or producer of ALL the products they sell. Vendors must produce within a 100-mile radius of Cashiers. That means that the season for each fruit and vegetable is longer. Shopping at the Green Market provides a forum for learning how food is grown\, who grew it\, and why it tastes so good. \nFill your basket with naturally raised meat and dairy items\, fresh eggs\, jams\, pickles\, freshly baked bread and delicious granola.  Set your table with fresh cut flowers or plant your entryway with locally grown perennials.  Always fresh.  Always local. \nLocally Grown On the Green | 11AM – 3PM\nEvery Wednesday May 1 – October 30th\nThe Village Green Commons\nFree
URL:https://www.villagegreencashiersnc.com/event/locally-grown-on-the-green-farmers-market/2024-10-09/
LOCATION:Common’s Lawn\, 160 Frank Allen Road\, Cashiers\, NC\, 28717\, United States
ATTACH;FMTTYPE=image/png:https://www.villagegreencashiersnc.com/wp-content/uploads/2024/02/Untitled-design-10-copy-4.png
ORGANIZER;CN="The Village Green of Cashiers":MAILTO:Shelby@cashiersgreen.com
END:VEVENT
BEGIN:VEVENT
DTSTART;TZID=America/New_York:20241011T100000
DTEND;TZID=America/New_York:20241011T170000
DTSTAMP:20260422T185000
CREATED:20240108T203455Z
LAST-MODIFIED:20240402T203047Z
UID:4635-1728640800-1728666000@www.villagegreencashiersnc.com
SUMMARY:Cashiers Valley Leaf Festival
DESCRIPTION:This fall festival celebrates the leaves beginning to change in the beautiful mountain village of Cashiers\, NC! This popular and FREE community event welcomes 90 local and regional artisans to the park. Visitors to the festival will find unique handcrafted products such as wood\, pottery\, jewelry\, textiles\, fine art\, and much more on display and for sale throughout the weekend. Visitors are able to meet the artists who create their goods from start to finish. Food\, drink\, and live music add to the festive spirit of the event! The Cashiers Valley Leaf Festival will be held Friday through Sunday\, October 11-13\, 2024. \nThe Village Green’s hand painted glass Christmas ornaments will be available for purchase throughout the weekend at The Village Green’s tent! \nHours & Dates: \nFriday\, October 11th: 10am-5pm \nSaturday\, October 12th: 10am-5pm \nSunday\, October 13th: 10am-3pm
URL:https://www.villagegreencashiersnc.com/event/cashiers-valley-leaf-festival-4/2024-10-11/
LOCATION:Gazebo and Lawn\, 35 Highway 64 West\, Cashiers\, NC\, 28717\, United States
ATTACH;FMTTYPE=image/jpeg:https://www.villagegreencashiersnc.com/wp-content/uploads/2022/12/Cashiers-Leaf-Festival-Courtesy-JCTDA-011-copy-e1722277237945.jpg
ORGANIZER;CN="The Village Green of Cashiers":MAILTO:Shelby@cashiersgreen.com
END:VEVENT
BEGIN:VEVENT
DTSTART;TZID=America/New_York:20241012T100000
DTEND;TZID=America/New_York:20241012T170000
DTSTAMP:20260422T185000
CREATED:20240108T203455Z
LAST-MODIFIED:20240402T203047Z
UID:4641-1728727200-1728752400@www.villagegreencashiersnc.com
SUMMARY:Cashiers Valley Leaf Festival
DESCRIPTION:This fall festival celebrates the leaves beginning to change in the beautiful mountain village of Cashiers\, NC! This popular and FREE community event welcomes 90 local and regional artisans to the park. Visitors to the festival will find unique handcrafted products such as wood\, pottery\, jewelry\, textiles\, fine art\, and much more on display and for sale throughout the weekend. Visitors are able to meet the artists who create their goods from start to finish. Food\, drink\, and live music add to the festive spirit of the event! The Cashiers Valley Leaf Festival will be held Friday through Sunday\, October 11-13\, 2024. \nThe Village Green’s hand painted glass Christmas ornaments will be available for purchase throughout the weekend at The Village Green’s tent! \nHours & Dates: \nFriday\, October 11th: 10am-5pm \nSaturday\, October 12th: 10am-5pm \nSunday\, October 13th: 10am-3pm
URL:https://www.villagegreencashiersnc.com/event/cashiers-valley-leaf-festival-4/2024-10-12/
LOCATION:Gazebo and Lawn\, 35 Highway 64 West\, Cashiers\, NC\, 28717\, United States
ATTACH;FMTTYPE=image/jpeg:https://www.villagegreencashiersnc.com/wp-content/uploads/2022/12/Cashiers-Leaf-Festival-Courtesy-JCTDA-011-copy-e1722277237945.jpg
ORGANIZER;CN="The Village Green of Cashiers":MAILTO:Shelby@cashiersgreen.com
END:VEVENT
BEGIN:VEVENT
DTSTART;TZID=America/New_York:20241013T100000
DTEND;TZID=America/New_York:20241013T170000
DTSTAMP:20260422T185000
CREATED:20240108T203455Z
LAST-MODIFIED:20240402T203048Z
UID:4642-1728813600-1728838800@www.villagegreencashiersnc.com
SUMMARY:Cashiers Valley Leaf Festival
DESCRIPTION:This fall festival celebrates the leaves beginning to change in the beautiful mountain village of Cashiers\, NC! This popular and FREE community event welcomes 90 local and regional artisans to the park. Visitors to the festival will find unique handcrafted products such as wood\, pottery\, jewelry\, textiles\, fine art\, and much more on display and for sale throughout the weekend. Visitors are able to meet the artists who create their goods from start to finish. Food\, drink\, and live music add to the festive spirit of the event! The Cashiers Valley Leaf Festival will be held Friday through Sunday\, October 11-13\, 2024. \nThe Village Green’s hand painted glass Christmas ornaments will be available for purchase throughout the weekend at The Village Green’s tent! \nHours & Dates: \nFriday\, October 11th: 10am-5pm \nSaturday\, October 12th: 10am-5pm \nSunday\, October 13th: 10am-3pm
URL:https://www.villagegreencashiersnc.com/event/cashiers-valley-leaf-festival-4/2024-10-13/
LOCATION:Gazebo and Lawn\, 35 Highway 64 West\, Cashiers\, NC\, 28717\, United States
ATTACH;FMTTYPE=image/jpeg:https://www.villagegreencashiersnc.com/wp-content/uploads/2022/12/Cashiers-Leaf-Festival-Courtesy-JCTDA-011-copy-e1722277237945.jpg
ORGANIZER;CN="The Village Green of Cashiers":MAILTO:Shelby@cashiersgreen.com
END:VEVENT
END:VCALENDAR