BEGIN:VCALENDAR
VERSION:2.0
PRODID:-//The Village Green Of Cashiers - ECPv6.15.13//NONSGML v1.0//EN
CALSCALE:GREGORIAN
METHOD:PUBLISH
X-WR-CALNAME:The Village Green Of Cashiers
X-ORIGINAL-URL:https://www.villagegreencashiersnc.com
X-WR-CALDESC:Events for The Village Green Of Cashiers
REFRESH-INTERVAL;VALUE=DURATION:PT1H
X-Robots-Tag:noindex
X-PUBLISHED-TTL:PT1H
BEGIN:VTIMEZONE
TZID:America/New_York
BEGIN:DAYLIGHT
TZOFFSETFROM:-0500
TZOFFSETTO:-0400
TZNAME:EDT
DTSTART:20210314T070000
END:DAYLIGHT
BEGIN:STANDARD
TZOFFSETFROM:-0400
TZOFFSETTO:-0500
TZNAME:EST
DTSTART:20211107T060000
END:STANDARD
BEGIN:DAYLIGHT
TZOFFSETFROM:-0500
TZOFFSETTO:-0400
TZNAME:EDT
DTSTART:20220313T070000
END:DAYLIGHT
BEGIN:STANDARD
TZOFFSETFROM:-0400
TZOFFSETTO:-0500
TZNAME:EST
DTSTART:20221106T060000
END:STANDARD
BEGIN:DAYLIGHT
TZOFFSETFROM:-0500
TZOFFSETTO:-0400
TZNAME:EDT
DTSTART:20230312T070000
END:DAYLIGHT
BEGIN:STANDARD
TZOFFSETFROM:-0400
TZOFFSETTO:-0500
TZNAME:EST
DTSTART:20231105T060000
END:STANDARD
BEGIN:DAYLIGHT
TZOFFSETFROM:-0500
TZOFFSETTO:-0400
TZNAME:EDT
DTSTART:20240310T070000
END:DAYLIGHT
BEGIN:STANDARD
TZOFFSETFROM:-0400
TZOFFSETTO:-0500
TZNAME:EST
DTSTART:20241103T060000
END:STANDARD
END:VTIMEZONE
BEGIN:VEVENT
DTSTART;TZID=America/New_York:20221007T100000
DTEND;TZID=America/New_York:20221007T170000
DTSTAMP:20260420T144026
CREATED:20220817T173546Z
LAST-MODIFIED:20221006T184126Z
UID:3393-1665136800-1665162000@www.villagegreencashiersnc.com
SUMMARY:Cashiers Valley Leaf Festival - Day One
DESCRIPTION:This fall festival celebrates the leaves beginning to change in the beautiful mountain village of Cashiers. This popular and free event welcomes 75 artisans to the park (click HERE to view our 2022 Vendor List and Map). Visitors will find unique handcrafted wood\, pottery\, jewelry and much more on display and for purchase throughout the weekend. Food\, drink\, and live music add to the festive spirit of this event. The Cashiers Valley Leaf Festival will be held \nFriday through Sunday\, October 7 – 9\, 2022. \nOctober 7th & 8th: Festival Open from 10am-5pm \nOctober 9th: Festival Open from 10am-3pm \nThank you to our Evergreen Sponsors!\n \n \n \n \n \nThank you to our Crossroads Sponsors!
URL:https://www.villagegreencashiersnc.com/event/cashiers-valley-leaf-festival-2/
LOCATION:NC
CATEGORIES:Community
ATTACH;FMTTYPE=image/png:https://www.villagegreencashiersnc.com/wp-content/uploads/2022/08/CVLF-22-1.png
ORGANIZER;CN="The Village Green of Cashiers":MAILTO:Shelby@cashiersgreen.com
END:VEVENT
BEGIN:VEVENT
DTSTART;TZID=America/New_York:20221007T173000
DTEND;TZID=America/New_York:20221007T203000
DTSTAMP:20260420T144026
CREATED:20221003T154451Z
LAST-MODIFIED:20221004T130030Z
UID:3438-1665163800-1665174600@www.villagegreencashiersnc.com
SUMMARY:Ingles Hometown Concert Series at The Village Green
DESCRIPTION:Joe Lasher\, Kaitlyn Baker and Commodore Fox will perform starting at 5:30 p.m. Friday\, October 7th at The Village Green Commons. Ingles Markets is sponsoring and bringing this event! They will be collecting canned donations during the concert to give to a local food pantry. \n\n\nThis event is FREE for general admission. \n10×10 Covered Tents to listen with your family and friends can be purchased and reserved HERE.
URL:https://www.villagegreencashiersnc.com/event/ingles-hometown-concert-series-at-the-village-green/
LOCATION:Common’s Lawn\, 160 Frank Allen Road\, Cashiers\, NC\, 28717\, United States
CATEGORIES:Community
ATTACH;FMTTYPE=image/jpeg:https://www.villagegreencashiersnc.com/wp-content/uploads/2022/10/Ingles-Concert-Photo.jpeg
ORGANIZER;CN="The Village Green of Cashiers":MAILTO:Shelby@cashiersgreen.com
END:VEVENT
BEGIN:VEVENT
DTSTART;TZID=America/New_York:20221007T173000
DTEND;TZID=America/New_York:20221009T150000
DTSTAMP:20260420T144026
CREATED:20221003T160417Z
LAST-MODIFIED:20221004T130030Z
UID:3445-1665163800-1665327600@www.villagegreencashiersnc.com
SUMMARY:Cashiers Valley Leaf Festival - Musical Performances
DESCRIPTION:FRIDAY\, OCTOBER 7\, 2022: 10:00 a.m.-5:00 p.m.\nOctober 7th 5:30pm-8:30pm: Ingles Hometown Concert Series featuring Joe Lasher\, Kaitlyn Baker\, and Commodore Fox *Sponsored by Ingles Markets*\nTo rent a tent\, please visit: Ingles Hometown Series Concert \nSATURDAY\, OCTOBER 8\, 2022: 10:00 a.m.-5 p.m.\nLive Music at the Gazebo: \n11am: Ellie’s Groove \n1pm: George Reeves \n3pm: Zorki Nastasic \nSUNDAY\, OCTOBER 9\, 2022: 10:00am-3:00pm\nLive Music at the Gazebo: \n11am: Julie Gribble \n1pm: Blue Ridge JAM
URL:https://www.villagegreencashiersnc.com/event/cashiers-valley-leaf-festival-musical-performances/
LOCATION:NC
CATEGORIES:Community,Concerts
ATTACH;FMTTYPE=image/png:https://www.villagegreencashiersnc.com/wp-content/uploads/2022/10/Screen-Shot-2022-10-03-at-11.59.43-AM.png
ORGANIZER;CN="The Village Green of Cashiers":MAILTO:Shelby@cashiersgreen.com
END:VEVENT
BEGIN:VEVENT
DTSTART;TZID=America/New_York:20221008T100000
DTEND;TZID=America/New_York:20221008T170000
DTSTAMP:20260420T144026
CREATED:20221003T152121Z
LAST-MODIFIED:20221003T153333Z
UID:3430-1665223200-1665248400@www.villagegreencashiersnc.com
SUMMARY:Cashiers Valley Leaf Festival - Day Two
DESCRIPTION:This fall festival celebrates the leaves beginning to change in the beautiful mountain village of Cashiers. This popular and free event welcomes 75 artisans to the park. Visitors will find unique handcrafted wood\, pottery\, jewelry and much more on display and for purchase throughout the weekend. Food\, drink\, and live music add to the festive spirit of this event. The Cashiers Valley Leaf Festival will be held Friday through Sunday\, October 7 – 9\, 2022. \nOctober 7th & 8th: Festival Open from 10am-5pm \nOctober 9th: Festival Open from 10am-3pm \nThank you to our Evergreen Sponsors!\n \n \n \n \n \nThank you to our Crossroads Sponsors!
URL:https://www.villagegreencashiersnc.com/event/cashiers-valley-leaf-festival-day-two/
LOCATION:NC
CATEGORIES:Community
ATTACH;FMTTYPE=image/png:https://www.villagegreencashiersnc.com/wp-content/uploads/2022/08/CVLF-22-1.png
ORGANIZER;CN="The Village Green of Cashiers":MAILTO:Shelby@cashiersgreen.com
END:VEVENT
BEGIN:VEVENT
DTSTART;TZID=America/New_York:20221008T193000
DTEND;TZID=America/New_York:20221008T193000
DTSTAMP:20260420T144026
CREATED:20221006T191256Z
LAST-MODIFIED:20221006T192235Z
UID:3482-1665257400-1665257400@www.villagegreencashiersnc.com
SUMMARY:Quilters - The Musical
DESCRIPTION:WCU – School of Stage and Screen Performances\npresents\nQuilters – The Musical\nIn the American West\, a pioneer woman\, Sarah\, and six women\, who are called her daughters\, face frontier life. The musical is presented as a series of short tales and tableaux matched with musical numbers\, each presenting an aspect of frontier life or womanhood. The patches or blocks show “girlhood\, marriage\, childbirth\, spinsterhood\, twisters\, fire\, illness\, and death.” \nTo purchase tickets please click HERE!
URL:https://www.villagegreencashiersnc.com/event/quilters-the-musical/
LOCATION:Lewis Hall at The Village Green\, 160 Frank Allen Road\, Cashiers\, NC\, 28717\, United States
CATEGORIES:Community,Cultural Events
ATTACH;FMTTYPE=image/png:https://www.villagegreencashiersnc.com/wp-content/uploads/2022/10/QUILTERS2022430204433127.png
END:VEVENT
BEGIN:VEVENT
DTSTART;TZID=America/New_York:20221009T100000
DTEND;TZID=America/New_York:20221009T150000
DTSTAMP:20260420T144027
CREATED:20221003T153254Z
LAST-MODIFIED:20221003T153254Z
UID:3435-1665309600-1665327600@www.villagegreencashiersnc.com
SUMMARY:Cashiers Valley Leaf Festival - Day Three
DESCRIPTION:This fall festival celebrates the leaves beginning to change in the beautiful mountain village of Cashiers. This popular and free event welcomes 75 artisans to the park. Visitors will find unique handcrafted wood\, pottery\, jewelry and much more on display and for purchase throughout the weekend. Food\, drink\, and live music add to the festive spirit of this event. The Cashiers Valley Leaf Festival will be held Friday through Sunday\, October 7 – 9\, 2022. \nOctober 7th & 8th: Festival Open from 10am-5pm \nOctober 9th: Festival Open from 10am-3pm \nThank you to our Evergreen Sponsors!\n \n \n \n \n \nThank you to our Crossroads Sponsors!
URL:https://www.villagegreencashiersnc.com/event/cashiers-valley-leaf-festival-day-three/
LOCATION:NC
CATEGORIES:Community
ATTACH;FMTTYPE=image/png:https://www.villagegreencashiersnc.com/wp-content/uploads/2022/08/CVLF-22-1.png
ORGANIZER;CN="The Village Green of Cashiers":MAILTO:Shelby@cashiersgreen.com
END:VEVENT
BEGIN:VEVENT
DTSTART;TZID=America/New_York:20221009T170000
DTEND;TZID=America/New_York:20221009T200000
DTSTAMP:20260420T144027
CREATED:20221006T192853Z
LAST-MODIFIED:20221006T192900Z
UID:3492-1665334800-1665345600@www.villagegreencashiersnc.com
SUMMARY:Quilters - The Musical
DESCRIPTION:WCU – School of Stage and Screen Performances\npresents\nQuilters – The Musical\nIn the American West\, a pioneer woman\, Sarah\, and six women\, who are called her daughters\, face frontier life. The musical is presented as a series of short tales and tableaux matched with musical numbers\, each presenting an aspect of frontier life or womanhood. The patches or blocks show “girlhood\, marriage\, childbirth\, spinsterhood\, twisters\, fire\, illness\, and death.” \nTo purchase tickets please click HERE!
URL:https://www.villagegreencashiersnc.com/event/quilters-the-musical-2/
LOCATION:Lewis Hall at The Village Green\, 160 Frank Allen Road\, Cashiers\, NC\, 28717\, United States
CATEGORIES:Community,Cultural Events
ATTACH;FMTTYPE=image/png:https://www.villagegreencashiersnc.com/wp-content/uploads/2022/10/QUILTERS2022430204433127.png
END:VEVENT
BEGIN:VEVENT
DTSTART;TZID=America/New_York:20221124T080000
DTEND;TZID=America/New_York:20221124T120000
DTSTAMP:20260420T144027
CREATED:20221010T194943Z
LAST-MODIFIED:20221122T161423Z
UID:3505-1669276800-1669291200@www.villagegreencashiersnc.com
SUMMARY:Gobble on The Green
DESCRIPTION:Turkey\, cornbread dressing\, pumpkin pie\, football\, and family time … there are so many reasons to love Thanksgiving! Did we mention pie? Each family has its own activities and traditions to look forward to. The Village Green offers a 5K Run/Walk turkey-trot\, Gobble On the Green. \nGobble On the Green\nDoors open at the Lewis Hall (160 Frank Allen Road) at 8a.m. \nRace begins promptly at 9 a.m. Thursday\, November 24\, 2022 at beside Lewis Hall at The Village Green on Frank Allen Road. \nRegistration is now open! Click here to register: Gobble on The Green 5K Registration \nFor more information about this\, and other events\, please click HERE!
URL:https://www.villagegreencashiersnc.com/event/gobble-on-the-green-2/
LOCATION:Lewis Hall at The Village Green\, 160 Frank Allen Road\, Cashiers\, NC\, 28717\, United States
CATEGORIES:Community,Holiday Event
ATTACH;FMTTYPE=image/jpeg:https://www.villagegreencashiersnc.com/wp-content/uploads/2022/10/Thanksgiving-2022.jpeg
ORGANIZER;CN="The Village Green of Cashiers":MAILTO:Shelby@cashiersgreen.com
END:VEVENT
BEGIN:VEVENT
DTSTART;TZID=America/New_York:20221125T100000
DTEND;TZID=America/New_York:20221126T170000
DTSTAMP:20260420T144027
CREATED:20221122T160814Z
LAST-MODIFIED:20221122T230213Z
UID:3562-1669370400-1669482000@www.villagegreencashiersnc.com
SUMMARY:Mistletoe Market
DESCRIPTION:Come shop for everyone on your list at the Mistletoe Market on November 25 & 26 at The Village Green Lewis Hall. There will be 10 local artisan vendors selling their goods from 10 am – 5 pm.
URL:https://www.villagegreencashiersnc.com/event/mistletoe-market-2/
LOCATION:Lewis Hall at The Village Green\, 160 Frank Allen Road\, Cashiers\, NC\, 28717\, United States
ORGANIZER;CN="The Village Green of Cashiers":MAILTO:Shelby@cashiersgreen.com
END:VEVENT
BEGIN:VEVENT
DTSTART;TZID=America/New_York:20221125T140000
DTEND;TZID=America/New_York:20221125T170000
DTSTAMP:20260420T144027
CREATED:20221122T161316Z
LAST-MODIFIED:20221122T161316Z
UID:3565-1669384800-1669395600@www.villagegreencashiersnc.com
SUMMARY:Visit with Santa **By Reservation Only**
DESCRIPTION:Come share your Christmas wishes with Santa on November 25th at The Village Green Lewis Hall. This is a free event\, but we suggest a $5 donation per child at the door. \n*Santa Visits are by appointment only. Currently all slots are at full capacity.*
URL:https://www.villagegreencashiersnc.com/event/visit-with-santa-by-reservation-only/
LOCATION:Lewis Hall at The Village Green\, 160 Frank Allen Road\, Cashiers\, NC\, 28717\, United States
END:VEVENT
BEGIN:VEVENT
DTSTART;TZID=America/New_York:20230407T160000
DTEND;TZID=America/New_York:20230407T173000
DTSTAMP:20260420T144027
CREATED:20230202T190138Z
LAST-MODIFIED:20230322T141418Z
UID:3717-1680883200-1680888600@www.villagegreencashiersnc.com
SUMMARY:Stations of The Cross
DESCRIPTION:Stations of The Cross will begin at The Village Green Common’s Lawn at 4pm on Good Friday – April 7th\, 2023. \nThis ancient tradition of carrying the cross is a way of remembering how Jesus carried His cross to Golgotha. This walking devotional experience with fourteen readings is open to visitors and residents in the area. The walk will feature scripture\, prayer\, and reflection to recall the events of Good Friday.
URL:https://www.villagegreencashiersnc.com/event/stations-of-the-cross-3/
LOCATION:Common’s Lawn\, 160 Frank Allen Road\, Cashiers\, NC\, 28717\, United States
ORGANIZER;CN="The Village Green of Cashiers":MAILTO:Shelby@cashiersgreen.com
END:VEVENT
BEGIN:VEVENT
DTSTART;TZID=America/New_York:20230409T070000
DTEND;TZID=America/New_York:20230409T083000
DTSTAMP:20260420T144027
CREATED:20230202T190922Z
LAST-MODIFIED:20230202T190922Z
UID:3719-1681023600-1681029000@www.villagegreencashiersnc.com
SUMMARY:Easter Sunrise Service
DESCRIPTION:The Cashiers’ Community Easter Sunrise Service will be on Sunday\, April 9th\, 2023 at 7am at The Village Green Commons. Celebrate the Resurrection with an outdoor service featuring live music\, scripture\, and an uplifting message with a backdrop of a beautiful sunrise over the mountains. In the event of inclement weather\, the Cashiers Area Clergy will move the service inside the Lewis Hall building. We ask that attendees bring their own lawn chairs for the service.
URL:https://www.villagegreencashiersnc.com/event/easter-sunrise-service-2/
LOCATION:Common’s Lawn\, 160 Frank Allen Road\, Cashiers\, NC\, 28717\, United States
ORGANIZER;CN="The Village Green of Cashiers":MAILTO:Shelby@cashiersgreen.com
END:VEVENT
BEGIN:VEVENT
DTSTART;TZID=America/New_York:20230409T130000
DTEND;TZID=America/New_York:20230409T143000
DTSTAMP:20260420T144027
CREATED:20230202T185210Z
LAST-MODIFIED:20230406T135819Z
UID:3715-1681045200-1681050600@www.villagegreencashiersnc.com
SUMMARY:13th Annual Easter Egg Hunt
DESCRIPTION:The Village Green is hosting the 13th annual community Easter Egg Hunt for children 11 years and younger starting at 1pm on Sunday\, April 9th. Along with the Easter Egg Hunt\, The Literacy Council of Cashiers and The Albert Carlton Library will be working with the Easter Bunny to hand out books! \nFor the Easter Egg Hunt\, children will be divided by age into three separate areas of the park near the Gazebo and Village Green Playground at our Highway 64 entrance. \nPlease bring your own baskets! The Easter Bunny will be making a visit for photos and handing out books\, so please plan to bring a camera. We are looking forward to seeing everyone on Easter weekend!
URL:https://www.villagegreencashiersnc.com/event/13th-annual-easter-egg-hunt/
LOCATION:Gazebo and Lawn\, 35 Highway 64 West\, Cashiers\, NC\, 28717\, United States
ORGANIZER;CN="The Village Green of Cashiers":MAILTO:Shelby@cashiersgreen.com
END:VEVENT
BEGIN:VEVENT
DTSTART;TZID=America/New_York:20230419T140000
DTEND;TZID=America/New_York:20230419T170000
DTSTAMP:20260420T144027
CREATED:20230113T220544Z
LAST-MODIFIED:20230428T150727Z
UID:3658-1681912800-1681923600@www.villagegreencashiersnc.com
SUMMARY:Locally Grown on The Green
DESCRIPTION:Choose the food less traveled at Locally Grown on The Green Market\, Cashiers farm stand market for local growers beginning Wednesday\, April 19\, 2023. The market is “producer-only” meaning that the vendor must be the grower or producer of ALL the products they sell. Vendors must produce within a 125-mile radius of Cashiers. That means that the season for each fruit and vegetable is longer. Shopping at Locally Grown on Green Market provides a forum for learning how food is grown\, who grew it\, and why it tastes so good. \nFill your basket with naturally raised meat and dairy items\, fresh eggs\, jams\, pickles\, freshly baked bread and delicious granola.  Set your table with fresh cut flowers or plant your entryway with locally grown perennials.  Always fresh.  Always local. \nThe market is located at 160 Frank Allen Road\, next to the Cashiers Post Office.
URL:https://www.villagegreencashiersnc.com/event/locally-grown-on-the-green-2/2023-04-19/
LOCATION:Common’s Lawn\, 160 Frank Allen Road\, Cashiers\, NC\, 28717\, United States
CATEGORIES:Farmers Market
ATTACH;FMTTYPE=image/jpeg:https://www.villagegreencashiersnc.com/wp-content/uploads/2023/01/Locally-Grown-on-The-Green.jpg
ORGANIZER;CN="The Village Green of Cashiers":MAILTO:Shelby@cashiersgreen.com
END:VEVENT
BEGIN:VEVENT
DTSTART;TZID=America/New_York:20230425T170000
DTEND;TZID=America/New_York:20230425T180000
DTSTAMP:20260420T144027
CREATED:20230306T233305Z
LAST-MODIFIED:20230428T150837Z
UID:3941-1682442000-1682445600@www.villagegreencashiersnc.com
SUMMARY:Village Nature Series
DESCRIPTION:The Village Nature Series is an annual educational lecture series co-hosted by The Village Green and the Highlands-Cashiers Land Trust. These programs are free and family-friendly. Each Village Nature Series will begin at 5pm on the last Tuesday of each month from April-September. The series will be held at The Village Green in Cashiers located on Frank Allen Road\, with the exception of July 25th (held at the Albert Carlton Cashiers Library). We invite you to join us for the 2023 Village Nature Series! \n2023 Schedule: \n\nApril 25th: Sonya Carpenter\, Ecologist and Native Plant Enthusiast | Investing in the Biodiversity of Cashiers: Creating a Sustainable Future for a Complex Ecosystem\nMay 30th: Dr. Mark Ellison\, Pinnacle Forest Therapy\, certified Forest Therapy Guide | Hiking to Heal: An Introduction to Forest Therapy\nJune 27th: Dr. Gary Wein\, Highlands-Cashiers Land Trust Executive Director + Botanist | Sense of Place: A Final Embarkment \nJuly 25th: Lamar Marshall\, Research Director of Southeast Heritage | Cashiers Valley: Ancient Cherokee Travel Corridor \n\n*NOTE: This Village Nature Series will be held at the Albert Carlton Cashiers Community Library located at 249 Frank Allen Road Cashiers\, NC 28717.*\n\n\nAugust 29th: Brit Blackford\, Education Director + Senior Naturalist at Balsam Mountain Trust | Amazing Adaptations: Animal Ambassadors \nSeptember 26th: Cameron Ward | Composting 101: Saving the Planet One Orange Peel at a Time\n\nWe would also like to thank our incredible sponsor\, Cedar Creek Club\, for bringing the Village Nature Series for our community.
URL:https://www.villagegreencashiersnc.com/event/village-nature-series-2/2023-04-25/
LOCATION:Common’s Lawn\, 160 Frank Allen Road\, Cashiers\, NC\, 28717\, United States
CATEGORIES:Educational Program
ATTACH;FMTTYPE=image/jpeg:https://www.villagegreencashiersnc.com/wp-content/uploads/2023/03/vns2022.jpg
ORGANIZER;CN="The Village Green of Cashiers":MAILTO:Shelby@cashiersgreen.com
END:VEVENT
BEGIN:VEVENT
DTSTART;TZID=America/New_York:20230526T183000
DTEND;TZID=America/New_York:20230526T210000
DTSTAMP:20260420T144027
CREATED:20230215T181541Z
LAST-MODIFIED:20230428T152004Z
UID:3748-1685125800-1685134800@www.villagegreencashiersnc.com
SUMMARY:Groovin' on The Green featuring Nitrograss
DESCRIPTION:Nitrograss\, both sonically unique and visually appealing in their performances\, provides a carefree and exciting atmosphere of pure acoustic ear-fodder. The percussive banjo of two-time national champion Charles Wood lays the foundation for the band’s unique style. Merging traditional Scruggs-style banjo with rhythmic motifs reminiscent of ZZ Top and the Allman Brothers\, Charles’ playing is also melodic in its sensibility\, evoking strong inflections with pure\, driving syncopation.  \nMusic will start at 6:30pm\, RAIN OR SHINE. General admission is free for all to sit on the lawn. Please bring your own lawn chairs and blankets. Coolers are welcome. \nThis event is sponsored by Laurel Magazine of Highlands and Cashiers NC. \nTents will be available for rent at https://www.villagegreencashiersnc.com/concerts/.
URL:https://www.villagegreencashiersnc.com/event/groovin-on-the-green-featuring-nitrograss/
LOCATION:Common’s Lawn\, 160 Frank Allen Road\, Cashiers\, NC\, 28717\, United States
CATEGORIES:Music
ATTACH;FMTTYPE=image/jpeg:https://www.villagegreencashiersnc.com/wp-content/uploads/2023/02/Nitrograss-Image.jpeg
ORGANIZER;CN="The Village Green of Cashiers":MAILTO:Shelby@cashiersgreen.com
END:VEVENT
BEGIN:VEVENT
DTSTART;TZID=America/New_York:20230527T190000
DTEND;TZID=America/New_York:20230528T210000
DTSTAMP:20260420T144027
CREATED:20230428T141053Z
LAST-MODIFIED:20230428T143603Z
UID:4208-1685214000-1685307600@www.villagegreencashiersnc.com
SUMMARY:Cashiers Live
DESCRIPTION:Patrick Davis & His Midnight Choir\nKnown for his writing and collaborations with Darius Rucker\, Jewel\, and Guy Clark to name a few\, Patrick Davis is bringing his Midnight Choir\, an astonishing 11-piece band\, to open Cashiers Live with a bang. \n\n7:00 PM – 9:00 PM\nDoor Time: 6:00 pm\nVIP (1 pass for all shows) includes:  \n\nVIP Parking\nPre-Concert Beer & Wine Cocktail Hour at Lewis Hall\nOpen Beer & Wine Bar During Concert\nPremiere Concert Seating for the Entire Season\n\nGeneral Admin: $35 \nKids (12 and under): $10 \n* General Admin – Bring your coolers\, blankets & chairs! Food\, drinks and seating are not provided by the venue. \nPurchase Tickets HERE!
URL:https://www.villagegreencashiersnc.com/event/cashiers-live/
LOCATION:NC
CATEGORIES:Music
ATTACH;FMTTYPE=image/jpeg:https://www.villagegreencashiersnc.com/wp-content/uploads/2023/04/Patrick-Davis-Image.jpeg
END:VEVENT
BEGIN:VEVENT
DTSTART;TZID=America/New_York:20230609T183000
DTEND;TZID=America/New_York:20230609T210000
DTSTAMP:20260420T144027
CREATED:20230215T182407Z
LAST-MODIFIED:20230428T151919Z
UID:3750-1686335400-1686344400@www.villagegreencashiersnc.com
SUMMARY:Groovin' on The Green featuring The Caribbean Cowboys
DESCRIPTION:The Caribbean Cowboys have been entertaining audiences for over 30 years! The CCB will provide you with a wide variety of music from Jimmy Buffett to other troubadours such as Peter Mayer\, Scott Kirby\, Jesse Winchester\, Fingers Taylor & the best of Classic & Southern Rock\, Rhythm & Blues\, Reggae\, Beach Tunes\, Country & last but not least…a few classics such as Frank Sinatra & Elvis along with the Caribbean Cowboys Band originals! \nMusic starts at 6:30pm\, RAIN OR SHINE. General admission is free for all who would like to sit on the lawn. Please bring your own chairs and blankets. Coolers are welcome. Dogs are welcome\, as long as they are leashed and under control of their owners at all times. \nThis concert is sponsored by Landmark Realty Group! \nTents will be available for rent at https://www.villagegreencashiersnc.com/concerts/
URL:https://www.villagegreencashiersnc.com/event/groovin-on-the-green-featuring-the-caribbean-cowboys/
LOCATION:Common’s Lawn\, 160 Frank Allen Road\, Cashiers\, NC\, 28717\, United States
CATEGORIES:Music
ATTACH;FMTTYPE=image/jpeg:https://www.villagegreencashiersnc.com/wp-content/uploads/2023/02/Carribean-Cowboys-Image.jpeg
ORGANIZER;CN="The Village Green of Cashiers":MAILTO:Shelby@cashiersgreen.com
END:VEVENT
BEGIN:VEVENT
DTSTART;TZID=America/New_York:20230617T190000
DTEND;TZID=America/New_York:20230617T210000
DTSTAMP:20260420T144027
CREATED:20230428T141643Z
LAST-MODIFIED:20230428T143515Z
UID:4217-1687028400-1687035600@www.villagegreencashiersnc.com
SUMMARY:Cashiers Live
DESCRIPTION:Eagles – Performed by To the Limit\nThe ultimate Eagles experience rides into Cashiers\, capturing the spirit of one of the world’s most celebrated bands and taking it to the limit one more time. \n7:00 PM – 9:00 PM\nDoor Time: 6:00 pm\nVIP (1 pass for all shows) includes:  \n\nVIP Parking\nPre-Concert Beer & Wine Cocktail Hour at Lewis Hall\nOpen Beer & Wine Bar During Concert\nPremiere Concert Seating for the Entire Season\n\nGeneral Admin: $35 \nKids (12 and under): $10 \n* General Admin – Bring your coolers\, blankets & chairs! Food\, drinks and seating are not provided by the venue. \nPurchase Tickets HERE!
URL:https://www.villagegreencashiersnc.com/event/cashiers-live-2/
LOCATION:Common’s Lawn\, 160 Frank Allen Road\, Cashiers\, NC\, 28717\, United States
CATEGORIES:Music
ATTACH;FMTTYPE=image/jpeg:https://www.villagegreencashiersnc.com/wp-content/uploads/2023/04/Eagles-Image.jpeg
END:VEVENT
BEGIN:VEVENT
DTSTART;TZID=America/New_York:20230623T183000
DTEND;TZID=America/New_York:20230623T210000
DTSTAMP:20260420T144027
CREATED:20230215T183132Z
LAST-MODIFIED:20230428T151748Z
UID:3752-1687545000-1687554000@www.villagegreencashiersnc.com
SUMMARY:Groovin' on The Green featuring Zorki & Jeff Sipe
DESCRIPTION:As a young musician\, Zorki attracted large crowds while playing as a street musician in the parks of New York City. He was soon sharing the stage with some of New York’s finest musicians. Taking his music from New York to California and back\, Zorki is currently based in North Carolina. He continues to perform coast to coast. His unique style of complex guitar and soothing vocals hooks audiences of all ages as he makes one guitar sound like a full band.  \nMusic starts at 6:30\, RAIN OR SHINE. General admission is free to all who would like to sit on the lawn. Please bring your own lawn chairs and blankets. Coolers are welcome. Dogs are welcome as long as they’re leashed and under control of their owners at all times. \nTents will be available for rent at https://www.villagegreencashiersnc.com/concerts/
URL:https://www.villagegreencashiersnc.com/event/groovin-on-the-green-featuring-zorki-jeff-sipe/
LOCATION:Common’s Lawn\, 160 Frank Allen Road\, Cashiers\, NC\, 28717\, United States
CATEGORIES:Music
ATTACH;FMTTYPE=image/jpeg:https://www.villagegreencashiersnc.com/wp-content/uploads/2023/02/Zorki-Image.jpeg
ORGANIZER;CN="The Village Green of Cashiers":MAILTO:Shelby@cashiersgreen.com
END:VEVENT
END:VCALENDAR