BEGIN:VCALENDAR
VERSION:2.0
PRODID:-//The Village Green Of Cashiers - ECPv6.15.13//NONSGML v1.0//EN
CALSCALE:GREGORIAN
METHOD:PUBLISH
X-ORIGINAL-URL:https://www.villagegreencashiersnc.com
X-WR-CALDESC:Events for The Village Green Of Cashiers
REFRESH-INTERVAL;VALUE=DURATION:PT1H
X-Robots-Tag:noindex
X-PUBLISHED-TTL:PT1H
BEGIN:VTIMEZONE
TZID:America/New_York
BEGIN:DAYLIGHT
TZOFFSETFROM:-0500
TZOFFSETTO:-0400
TZNAME:EDT
DTSTART:20220313T070000
END:DAYLIGHT
BEGIN:STANDARD
TZOFFSETFROM:-0400
TZOFFSETTO:-0500
TZNAME:EST
DTSTART:20221106T060000
END:STANDARD
BEGIN:DAYLIGHT
TZOFFSETFROM:-0500
TZOFFSETTO:-0400
TZNAME:EDT
DTSTART:20230312T070000
END:DAYLIGHT
BEGIN:STANDARD
TZOFFSETFROM:-0400
TZOFFSETTO:-0500
TZNAME:EST
DTSTART:20231105T060000
END:STANDARD
BEGIN:DAYLIGHT
TZOFFSETFROM:-0500
TZOFFSETTO:-0400
TZNAME:EDT
DTSTART:20240310T070000
END:DAYLIGHT
BEGIN:STANDARD
TZOFFSETFROM:-0400
TZOFFSETTO:-0500
TZNAME:EST
DTSTART:20241103T060000
END:STANDARD
END:VTIMEZONE
BEGIN:VEVENT
DTSTART;TZID=America/New_York:20230701T183000
DTEND;TZID=America/New_York:20230701T220000
DTSTAMP:20260419T183527
CREATED:20221215T182546Z
LAST-MODIFIED:20230701T172559Z
UID:3613-1688236200-1688248800@www.villagegreencashiersnc.com
SUMMARY:9th Annual Fireworks Extravaganza on The Green!
DESCRIPTION:A HUGE thank you to Landmark Realty Group for bringing TVG’s Fireworks Extravaganza!!\n \n			\n			\n				\n				\n				\n				\n			\n				\n				\n			\n				\n				\n				\n				\n				\n				\n				\n				\n				\n				\n				\n				\n				\n				\n				\n				\n				\n				Come one! Come all! Join us at The Village Green Commons for an evening of music\, family fun\, and of course\, fireworks! This is a FREE community event\, open to the public\, and no registration is required! \nThe annual “Fireworks Extravaganza on The Green” will take place on Saturday\, July 1st\, 2023 at 6:30pm\, RAIN or SHINE\, on The Village Green Commons Lawn! Entertainment will be provided by rhythm and blues band\, Continental Divide\, and the Cashiers Community Chorus\, followed by a fireworks show featuring 1000s of colorful bursts! The fireworks display will begin at dark around 9:30pm\, and will last approximately 15-20 minutes. \nAdmission is free\, however\, donations will be collected to help with the cost of the event. Many small communities have eliminated fireworks from their celebrations due to the cost associated with large pyrotechnic displays\, but The Village Green believes it is important to preserve this patriotic tradition for the Cashiers community. The Village Green is a 501c3 nonprofit park system and does not receive any funds from Jackson County\, the state of NC\, or the Federal Park System. \nAttendees are welcome to bring lawn chairs\, and picnics and coolers with their own food and beverages. Due to the size and nature of this event\, dogs will not be allowed and personal tents are not allowed. We hope to see you all there\, and God Bless America! \nFood and beverage will be available from Elevated Kitchen Food Truck\, Crossroads Custard\, and Innovation Brewing! \n**Important Additional Information for Saturday\, July 1st** \nPlease be aware that Frank Allen Road will be closed starting at 6pm and will not reopen until we receive an ‘all-clear’ after the fireworks show. Parking will be limited along Frank Allen Rd. Please do not park on the side of Frank Allen Road\, at the Cashiers Parks and Recreation Center\, or the Boys and Girls Club for safety reasons. If you choose to park along Frank Allen Road\, please be aware that you will not be able to leave until the road is officially re-opened. For additional information\, please contact the Community Event Coordinator at Shelby@CashiersGreen.com.
URL:https://www.villagegreencashiersnc.com/event/9th-annual-fireworks-extravaganza-on-the-green/
LOCATION:Common’s Lawn\, 160 Frank Allen Road\, Cashiers\, NC\, 28717\, United States
CATEGORIES:Holiday Event
ATTACH;FMTTYPE=image/jpeg:https://www.villagegreencashiersnc.com/wp-content/uploads/2020/01/fireworks-vg2016.jpg
ORGANIZER;CN="The Village Green of Cashiers":MAILTO:Shelby@cashiersgreen.com
END:VEVENT
BEGIN:VEVENT
DTSTART;TZID=America/New_York:20230707T183000
DTEND;TZID=America/New_York:20230707T210000
DTSTAMP:20260419T183527
CREATED:20230215T183705Z
LAST-MODIFIED:20230428T151626Z
UID:3754-1688754600-1688763600@www.villagegreencashiersnc.com
SUMMARY:Groovin' on The Green featuring McIntosh and The Lionhearts
DESCRIPTION:Founded in 2019 by singer-songwriter\, Spalding McIntosh\, McIntosh and the LionHearts are a versatile ensemble of musicians all devoted to presenting McIntosh’s complex compositions on home\, love and the challenges of manhood\, all in a right rolling groove. \nMusic starts at 6:30\, RAIN OR SHINE. General admission is free to all who would like to sit on the lawn. Please bring your own lawn chairs and blankets. Coolers are welcome. Dogs are welcome\, as long as they are leashed and under control of their owners at all times. \nThis concert is sponsored by Rusticks! \nTents will be available at https://www.villagegreencashiersnc.com/concerts/
URL:https://www.villagegreencashiersnc.com/event/groovin-on-the-green-featuring-americana-jones/
LOCATION:Common’s Lawn\, 160 Frank Allen Road\, Cashiers\, NC\, 28717\, United States
CATEGORIES:Music
ATTACH;FMTTYPE=image/jpeg:https://www.villagegreencashiersnc.com/wp-content/uploads/2023/02/Spalding-McIntosh.jpeg
ORGANIZER;CN="The Village Green of Cashiers":MAILTO:Shelby@cashiersgreen.com
END:VEVENT
BEGIN:VEVENT
DTSTART;TZID=America/New_York:20230708T190000
DTEND;TZID=America/New_York:20230708T210000
DTSTAMP:20260419T183527
CREATED:20230428T142153Z
LAST-MODIFIED:20230428T143428Z
UID:4223-1688842800-1688850000@www.villagegreencashiersnc.com
SUMMARY:Cashiers Live
DESCRIPTION:The Beatles – performed by RCA\nCelebrating the final album by the greatest band of all time\, RCA will perform “Let It Be” followed by all the classics spanning the fab four’s entire career. \n7:00 PM – 9:00 PM\nDoor Time: 6:00 pm\nVIP (1 pass for all shows) includes:  \n\nVIP Parking\nPre-Concert Beer & Wine Cocktail Hour at Lewis Hall\nOpen Beer & Wine Bar During Concert\nPremiere Concert Seating for the Entire Season\n\nGeneral Admin: $35 \nKids (12 and under): $10 \n* General Admin – Bring your coolers\, blankets & chairs! Food\, drinks and seating are not provided by the venue. \nPurchase Tickets HERE!
URL:https://www.villagegreencashiersnc.com/event/cashiers-live-3/
LOCATION:Common’s Lawn\, 160 Frank Allen Road\, Cashiers\, NC\, 28717\, United States
CATEGORIES:Music
ATTACH;FMTTYPE=image/jpeg:https://www.villagegreencashiersnc.com/wp-content/uploads/2023/04/The-Beatles-Image-e1682691663460.jpeg
END:VEVENT
BEGIN:VEVENT
DTSTART;TZID=America/New_York:20230721T183000
DTEND;TZID=America/New_York:20230721T210000
DTSTAMP:20260419T183527
CREATED:20230215T185443Z
LAST-MODIFIED:20230428T151540Z
UID:3756-1689964200-1689973200@www.villagegreencashiersnc.com
SUMMARY:Groovin' on The Green featuring Seth and Sara
DESCRIPTION:Local duo\, ‘Seth and Sara’ have been truckin’ it across North America\, chasing their dreams while performing their modern-western originals (along with covers like Tyler Childers\, The Beatles\, Colter Wall\, John Denver\, etc.) to anyone who will listen. With Seth praised on his mesmerizing vocals\, guitar\, and an ever-evolving suitcase kick\, Sara lays down percussion with delicate vocals accompanying their cowboy-inspired tunes. Together\, over the past four years\, they have traveled to 49 states and all across western Canada\, playing over 700 shows while sharing their music\, their stories\, and making countless memories and friends along the way. “If you enjoy a night filled with love\, humor\, heartbreak\, dancing\, and a rootsy kind of edge\, then Seth and Sara is a show not to be missed!” \nMusic starts at 6:30\, RAIN OR SHINE. General admission is free to all who would like to sit on the lawn. Please bring your own chairs and blankets. Coolers are welcome. Dogs are welcome\, as long as they are leashed and under control of their owners at all times. \nTents will be available at https://www.villagegreencashiersnc.com/concerts/
URL:https://www.villagegreencashiersnc.com/event/groovin-on-the-green-featuring-seth-and-sara/
LOCATION:Common’s Lawn\, 160 Frank Allen Road\, Cashiers\, NC\, 28717\, United States
CATEGORIES:Music
ATTACH;FMTTYPE=image/jpeg:https://www.villagegreencashiersnc.com/wp-content/uploads/2023/02/Seth-Sarah.jpeg
ORGANIZER;CN="The Village Green of Cashiers":MAILTO:Shelby@cashiersgreen.com
END:VEVENT
BEGIN:VEVENT
DTSTART;TZID=America/New_York:20230727T163000
DTEND;TZID=America/New_York:20230727T190000
DTSTAMP:20260419T183527
CREATED:20230721T133306Z
LAST-MODIFIED:20230721T133407Z
UID:4462-1690475400-1690484400@www.villagegreencashiersnc.com
SUMMARY:Friends of Panthertown Fundraiser
DESCRIPTION:Panthertown Fundraiser is Thursday\, July 27 @ The Village Green\, Lewis Hall \nDoors open at 4:30pm. \nPerformance starts at 5pm.  \nArrive early for best seating\, door prizes\, silent auction\, and to meet and mingle with Friends of Panthertown staff and volunteers\, visit our info tables\, and learn more about the work we are doing and programs we are offering this season in Panthertown Valley. \nTickets can be purchased HERE \nTickets may also be purchased at Cashiers Area Chamber of Commerce and Visitor’s Center.
URL:https://www.villagegreencashiersnc.com/event/friends-of-panthertown-fundraiser/
LOCATION:Lewis Hall at The Village Green\, 160 Frank Allen Road\, Cashiers\, NC\, 28717\, United States
CATEGORIES:Theatre
ATTACH;FMTTYPE=image/png:https://www.villagegreencashiersnc.com/wp-content/uploads/2023/07/Grandma-Gatewood-Poster-May-31-Version.png
END:VEVENT
BEGIN:VEVENT
DTSTART;TZID=America/New_York:20230729T190000
DTEND;TZID=America/New_York:20230729T210000
DTSTAMP:20260419T183527
CREATED:20230428T142649Z
LAST-MODIFIED:20230428T142655Z
UID:4229-1690657200-1690664400@www.villagegreencashiersnc.com
SUMMARY:Cashiers Live
DESCRIPTION:Elton John – performed by Greggie And The Jets \nA complete recreation of the authentic sounds AND sights of Sir Elton – Costume changes included. \n7:00 PM – 9:00 PM\nDoor Time: 6:00 pm\nVIP (1 pass for all shows) includes:  \n\nVIP Parking\nPre-Concert Beer & Wine Cocktail Hour at Lewis Hall\nOpen Beer & Wine Bar During Concert\nPremiere Concert Seating for the Entire Season\n\nGeneral Admin: $35 \nKids (12 and under): $10 \n* General Admin – Bring your coolers\, blankets & chairs! Food\, drinks and seating are not provided by the venue.
URL:https://www.villagegreencashiersnc.com/event/cashiers-live-4/
LOCATION:Common’s Lawn\, 160 Frank Allen Road\, Cashiers\, NC\, 28717\, United States
CATEGORIES:Music
ATTACH;FMTTYPE=image/png:https://www.villagegreencashiersnc.com/wp-content/uploads/2023/04/Elton-John.png
END:VEVENT
END:VCALENDAR