BEGIN:VCALENDAR
VERSION:2.0
PRODID:-//The Village Green Of Cashiers - ECPv6.15.13//NONSGML v1.0//EN
CALSCALE:GREGORIAN
METHOD:PUBLISH
X-ORIGINAL-URL:https://www.villagegreencashiersnc.com
X-WR-CALDESC:Events for The Village Green Of Cashiers
REFRESH-INTERVAL;VALUE=DURATION:PT1H
X-Robots-Tag:noindex
X-PUBLISHED-TTL:PT1H
BEGIN:VTIMEZONE
TZID:America/New_York
BEGIN:DAYLIGHT
TZOFFSETFROM:-0500
TZOFFSETTO:-0400
TZNAME:EDT
DTSTART:20220313T070000
END:DAYLIGHT
BEGIN:STANDARD
TZOFFSETFROM:-0400
TZOFFSETTO:-0500
TZNAME:EST
DTSTART:20221106T060000
END:STANDARD
BEGIN:DAYLIGHT
TZOFFSETFROM:-0500
TZOFFSETTO:-0400
TZNAME:EDT
DTSTART:20230312T070000
END:DAYLIGHT
BEGIN:STANDARD
TZOFFSETFROM:-0400
TZOFFSETTO:-0500
TZNAME:EST
DTSTART:20231105T060000
END:STANDARD
BEGIN:DAYLIGHT
TZOFFSETFROM:-0500
TZOFFSETTO:-0400
TZNAME:EDT
DTSTART:20240310T070000
END:DAYLIGHT
BEGIN:STANDARD
TZOFFSETFROM:-0400
TZOFFSETTO:-0500
TZNAME:EST
DTSTART:20241103T060000
END:STANDARD
END:VTIMEZONE
BEGIN:VEVENT
DTSTART;TZID=America/New_York:20231006T100000
DTEND;TZID=America/New_York:20231008T170000
DTSTAMP:20260419T170821
CREATED:20221215T204025Z
LAST-MODIFIED:20221215T204030Z
UID:3624-1696586400-1696784400@www.villagegreencashiersnc.com
SUMMARY:Cashiers Valley Leaf Festival
DESCRIPTION:Cashiers Valley Leaf Festival 2023\nThis fall festival celebrates the leaves beginning to change in the beautiful mountain village of Cashiers. This popular and free event welcomes 75 artisans to The Heart of Cashiers. Visitors will find unique handcrafted wood\, pottery\, jewelry and much more on display and for purchase throughout the weekend. Food\, drink\, and live music add to the festive spirit of this event. The Cashiers Valley Leaf Festival will be held Friday through Sunday\, October 6 – 8\, 2023. \nSchedule: \nFriday\, October 6th: 10am – 5pm \nSaturday\, October 7th: 10am – 5pm \nSunday\, October 8th: 10am – 3pm
URL:https://www.villagegreencashiersnc.com/event/cashiers-valley-leaf-festival-3/
LOCATION:NC
ORGANIZER;CN="The Village Green of Cashiers":MAILTO:Shelby@cashiersgreen.com
END:VEVENT
BEGIN:VEVENT
DTSTART;TZID=America/New_York:20231028T173000
DTEND;TZID=America/New_York:20231028T193000
DTSTAMP:20260419T170821
CREATED:20230322T201828Z
LAST-MODIFIED:20230905T165242Z
UID:4051-1698514200-1698521400@www.villagegreencashiersnc.com
SUMMARY:Halloween Block Party on Frank Allen Road
DESCRIPTION:The Village Green\, Albert Carlton Cashiers Library\, Cashiers-Glenville Recreation Center\, and the Boys and Girls Club of The Plateau are collaborating for the first annual Halloween Block Party along Frank Allen Road! Frank Allen Road will be closed from 5:30-7:30pm. The community will be able to walk along Frank Allen from The Village Green to the Cashiers Fire Department and join in on all the Halloween festivities held at each organization. \nThe Village Green will hold trunk-or-treat with fellow nonprofits\, the Library will host fun games and give away free books\, the Recreation Center will have a Halloween bash with lots of candy\, and the Boys and Girls Club will host fun Halloween games and cook hot dogs under their pavilion! \nDress is your best Halloween costume and join us for the first annual Halloween Block Party of Frank Allen! \nThis is a free community event!
URL:https://www.villagegreencashiersnc.com/event/goblins-on-the-green/
LOCATION:Common’s Lawn\, 160 Frank Allen Road\, Cashiers\, NC\, 28717\, United States
ORGANIZER;CN="The Village Green of Cashiers":MAILTO:Shelby@cashiersgreen.com
END:VEVENT
END:VCALENDAR