BEGIN:VCALENDAR
VERSION:2.0
PRODID:-//The Village Green Of Cashiers - ECPv6.15.13//NONSGML v1.0//EN
CALSCALE:GREGORIAN
METHOD:PUBLISH
X-ORIGINAL-URL:https://www.villagegreencashiersnc.com
X-WR-CALDESC:Events for The Village Green Of Cashiers
REFRESH-INTERVAL;VALUE=DURATION:PT1H
X-Robots-Tag:noindex
X-PUBLISHED-TTL:PT1H
BEGIN:VTIMEZONE
TZID:America/New_York
BEGIN:DAYLIGHT
TZOFFSETFROM:-0500
TZOFFSETTO:-0400
TZNAME:EDT
DTSTART:20200308T070000
END:DAYLIGHT
BEGIN:STANDARD
TZOFFSETFROM:-0400
TZOFFSETTO:-0500
TZNAME:EST
DTSTART:20201101T060000
END:STANDARD
BEGIN:DAYLIGHT
TZOFFSETFROM:-0500
TZOFFSETTO:-0400
TZNAME:EDT
DTSTART:20210314T070000
END:DAYLIGHT
BEGIN:STANDARD
TZOFFSETFROM:-0400
TZOFFSETTO:-0500
TZNAME:EST
DTSTART:20211107T060000
END:STANDARD
BEGIN:DAYLIGHT
TZOFFSETFROM:-0500
TZOFFSETTO:-0400
TZNAME:EDT
DTSTART:20220313T070000
END:DAYLIGHT
BEGIN:STANDARD
TZOFFSETFROM:-0400
TZOFFSETTO:-0500
TZNAME:EST
DTSTART:20221106T060000
END:STANDARD
END:VTIMEZONE
BEGIN:VEVENT
DTSTART;TZID=America/New_York:20210717T100000
DTEND;TZID=America/New_York:20210717T120000
DTSTAMP:20260422T075659
CREATED:20210518T191611Z
LAST-MODIFIED:20210709T170405Z
UID:2534-1626516000-1626523200@www.villagegreencashiersnc.com
SUMMARY:James Farmer Book Signing in the Village Green Shops
DESCRIPTION:James Farmer is a Southern author\, interior designer\, and speaker known for his ability to create beautifully familiar and welcoming homes. To James\, a home engages all of the senses – the pleasantries of colors and materials\, the feel of the doorknob warmed by the sun\, the smell of fresh laundry\, the sound of the closing door\, and the taste of supper on the table. Through his design firm\, James works with clients to truly create a home. \nJames is the author of the Wall Street Journal best-selling books A Time to Plant; Sip & Savor; Porch Living; Wreaths For All Seasons; A Time To Cook; Dinner on the Grounds; A Time to Celebrate and A Place to Call Home.  His most recent publication\, Arriving Home\, features design projects from the farmlands of Georgia to the rolling countryside of Connecticut. \nIn addition\, his work has been published in various magazines including Southern Living\, House Beautiful\, Traditional Home\, Southern Home\, FLOWER and more. As a frequent event speaker and guest\, James’s natural grace and warm personality light up any room. Whether designing homes or sharing his gardening expertise\, James Farmer is truly a fresh voice for his generation. \nHe will be selling and signing his books\, including his most recent release\, A Place to Call Home from 10:00 a.m.-Noon\, Saturday\, July 17 \nThank you to our event sponsor
URL:https://www.villagegreencashiersnc.com/event/james-farmer-book-signing-in-the-village-green-shops/
LOCATION:The Commons
CATEGORIES:Community
ATTACH;FMTTYPE=image/jpeg:https://www.villagegreencashiersnc.com/wp-content/uploads/2021/05/JTFDallasheadshot.jpeg
ORGANIZER;CN="The Village Green of Cashiers":MAILTO:Shelby@cashiersgreen.com
END:VEVENT
END:VCALENDAR