BEGIN:VCALENDAR
VERSION:2.0
PRODID:-//The Village Green Of Cashiers - ECPv6.15.13//NONSGML v1.0//EN
CALSCALE:GREGORIAN
METHOD:PUBLISH
X-WR-CALNAME:The Village Green Of Cashiers
X-ORIGINAL-URL:https://www.villagegreencashiersnc.com
X-WR-CALDESC:Events for The Village Green Of Cashiers
REFRESH-INTERVAL;VALUE=DURATION:PT1H
X-Robots-Tag:noindex
X-PUBLISHED-TTL:PT1H
BEGIN:VTIMEZONE
TZID:America/New_York
BEGIN:DAYLIGHT
TZOFFSETFROM:-0500
TZOFFSETTO:-0400
TZNAME:EDT
DTSTART:20200308T070000
END:DAYLIGHT
BEGIN:STANDARD
TZOFFSETFROM:-0400
TZOFFSETTO:-0500
TZNAME:EST
DTSTART:20201101T060000
END:STANDARD
BEGIN:DAYLIGHT
TZOFFSETFROM:-0500
TZOFFSETTO:-0400
TZNAME:EDT
DTSTART:20210314T070000
END:DAYLIGHT
BEGIN:STANDARD
TZOFFSETFROM:-0400
TZOFFSETTO:-0500
TZNAME:EST
DTSTART:20211107T060000
END:STANDARD
BEGIN:DAYLIGHT
TZOFFSETFROM:-0500
TZOFFSETTO:-0400
TZNAME:EDT
DTSTART:20220313T070000
END:DAYLIGHT
BEGIN:STANDARD
TZOFFSETFROM:-0400
TZOFFSETTO:-0500
TZNAME:EST
DTSTART:20221106T060000
END:STANDARD
END:VTIMEZONE
BEGIN:VEVENT
DTSTART;TZID=America/New_York:20210404T070000
DTEND;TZID=America/New_York:20210404T080000
DTSTAMP:20260423T045530
CREATED:20210318T200443Z
LAST-MODIFIED:20210319T122857Z
UID:2317-1617519600-1617523200@www.villagegreencashiersnc.com
SUMMARY:Community Easter Sunrise Service
DESCRIPTION:Gather with Cashiers Area Churches at 7 a.m.\, Sunday\, April 4 at the Village Green Commons.  The service will also be live-streamed on the Village Green Facebook page (@cashiersgreen) Celebrate the Resurrection with a service featuring live music by The Lost Chords\, scripture  an uplifting message with the backdrop of a beautiful sunrise over the mountains. Those attending need to bring a lawn chair. and observe a six-foot distance between households. In the event of inclement weather\, the Cashiers Area Clergy will lead this as a virtual experience\, again via live-stream on the Village Green Facebook page. \nAll of these opportunities are offered in the faith and trust that we can care for one another\, observing the command to love one another as you love yourself.  We want to maintain wearing a mask\, safe-distancing\, and following other measures to model caring for each other while ensuring the health and wellbeing of our larger community.  Many have been vaccinated\, but many have not.  Thank you for your cooperation. \n  \n 
URL:https://www.villagegreencashiersnc.com/event/community-easter-sunrise-service/
LOCATION:The Commons
CATEGORIES:Community
ATTACH;FMTTYPE=image/jpeg:https://www.villagegreencashiersnc.com/wp-content/uploads/2021/03/164705837_m.jpg
ORGANIZER;CN="The Village Green of Cashiers":MAILTO:Shelby@cashiersgreen.com
END:VEVENT
END:VCALENDAR