BEGIN:VCALENDAR
VERSION:2.0
PRODID:-//The Village Green Of Cashiers - ECPv6.15.13//NONSGML v1.0//EN
CALSCALE:GREGORIAN
METHOD:PUBLISH
X-WR-CALNAME:The Village Green Of Cashiers
X-ORIGINAL-URL:https://www.villagegreencashiersnc.com
X-WR-CALDESC:Events for The Village Green Of Cashiers
REFRESH-INTERVAL;VALUE=DURATION:PT1H
X-Robots-Tag:noindex
X-PUBLISHED-TTL:PT1H
BEGIN:VTIMEZONE
TZID:America/New_York
BEGIN:DAYLIGHT
TZOFFSETFROM:-0500
TZOFFSETTO:-0400
TZNAME:EDT
DTSTART:20200308T070000
END:DAYLIGHT
BEGIN:STANDARD
TZOFFSETFROM:-0400
TZOFFSETTO:-0500
TZNAME:EST
DTSTART:20201101T060000
END:STANDARD
BEGIN:DAYLIGHT
TZOFFSETFROM:-0500
TZOFFSETTO:-0400
TZNAME:EDT
DTSTART:20210314T070000
END:DAYLIGHT
BEGIN:STANDARD
TZOFFSETFROM:-0400
TZOFFSETTO:-0500
TZNAME:EST
DTSTART:20211107T060000
END:STANDARD
BEGIN:DAYLIGHT
TZOFFSETFROM:-0500
TZOFFSETTO:-0400
TZNAME:EDT
DTSTART:20220313T070000
END:DAYLIGHT
BEGIN:STANDARD
TZOFFSETFROM:-0400
TZOFFSETTO:-0500
TZNAME:EST
DTSTART:20221106T060000
END:STANDARD
END:VTIMEZONE
BEGIN:VEVENT
DTSTART;TZID=America/New_York:20210704T180000
DTEND;TZID=America/New_York:20210704T213000
DTSTAMP:20260422T175259
CREATED:20210604T204332Z
LAST-MODIFIED:20210608T202531Z
UID:2578-1625421600-1625434200@www.villagegreencashiersnc.com
SUMMARY:Concert On the Commons with Continental Divide
DESCRIPTION:Live music will return with a concert by the popular dance band Continental Divide at 6 p.m. Sunday\, July 4 at the Commons. Continental Divide has been playing venues across the southeast for more than 30 years. From the silky smooth voice of Carolina Beach Music Hall of Fame performer Gene Pharr to the lightness of the rhythm section to the flowing lines of the horn section they put on a performance that everyone will sure to remember. \nTickets go on sale Saturday\, June 12 at 9 a.m. Click this link for tickets. \nSponsored by Crossroads Sponsors \n \n \nWhiteside Sponsors \n  \n 
URL:https://www.villagegreencashiersnc.com/event/concert-on-the-commons-with-continental-divide/
LOCATION:The Commons
CATEGORIES:Concerts
ATTACH;FMTTYPE=image/jpeg:https://www.villagegreencashiersnc.com/wp-content/uploads/2021/06/1922182_10152350999380768_3831091517037101658_n.jpeg
END:VEVENT
END:VCALENDAR