BEGIN:VCALENDAR
VERSION:2.0
PRODID:-//The Village Green Of Cashiers - ECPv6.15.13//NONSGML v1.0//EN
CALSCALE:GREGORIAN
METHOD:PUBLISH
X-ORIGINAL-URL:https://www.villagegreencashiersnc.com
X-WR-CALDESC:Events for The Village Green Of Cashiers
REFRESH-INTERVAL;VALUE=DURATION:PT1H
X-Robots-Tag:noindex
X-PUBLISHED-TTL:PT1H
BEGIN:VTIMEZONE
TZID:America/New_York
BEGIN:DAYLIGHT
TZOFFSETFROM:-0500
TZOFFSETTO:-0400
TZNAME:EDT
DTSTART:20220313T070000
END:DAYLIGHT
BEGIN:STANDARD
TZOFFSETFROM:-0400
TZOFFSETTO:-0500
TZNAME:EST
DTSTART:20221106T060000
END:STANDARD
BEGIN:DAYLIGHT
TZOFFSETFROM:-0500
TZOFFSETTO:-0400
TZNAME:EDT
DTSTART:20230312T070000
END:DAYLIGHT
BEGIN:STANDARD
TZOFFSETFROM:-0400
TZOFFSETTO:-0500
TZNAME:EST
DTSTART:20231105T060000
END:STANDARD
BEGIN:DAYLIGHT
TZOFFSETFROM:-0500
TZOFFSETTO:-0400
TZNAME:EDT
DTSTART:20240310T070000
END:DAYLIGHT
BEGIN:STANDARD
TZOFFSETFROM:-0400
TZOFFSETTO:-0500
TZNAME:EST
DTSTART:20241103T060000
END:STANDARD
END:VTIMEZONE
BEGIN:VEVENT
DTSTART;TZID=America/New_York:20230727T163000
DTEND;TZID=America/New_York:20230727T190000
DTSTAMP:20260419T225400
CREATED:20230721T133306Z
LAST-MODIFIED:20230721T133407Z
UID:4462-1690475400-1690484400@www.villagegreencashiersnc.com
SUMMARY:Friends of Panthertown Fundraiser
DESCRIPTION:Panthertown Fundraiser is Thursday\, July 27 @ The Village Green\, Lewis Hall \nDoors open at 4:30pm. \nPerformance starts at 5pm.  \nArrive early for best seating\, door prizes\, silent auction\, and to meet and mingle with Friends of Panthertown staff and volunteers\, visit our info tables\, and learn more about the work we are doing and programs we are offering this season in Panthertown Valley. \nTickets can be purchased HERE \nTickets may also be purchased at Cashiers Area Chamber of Commerce and Visitor’s Center.
URL:https://www.villagegreencashiersnc.com/event/friends-of-panthertown-fundraiser/
LOCATION:Lewis Hall at The Village Green\, 160 Frank Allen Road\, Cashiers\, NC\, 28717\, United States
CATEGORIES:Theatre
ATTACH;FMTTYPE=image/png:https://www.villagegreencashiersnc.com/wp-content/uploads/2023/07/Grandma-Gatewood-Poster-May-31-Version.png
END:VEVENT
BEGIN:VEVENT
DTSTART;TZID=America/New_York:20230729T190000
DTEND;TZID=America/New_York:20230729T210000
DTSTAMP:20260419T225400
CREATED:20230428T142649Z
LAST-MODIFIED:20230428T142655Z
UID:4229-1690657200-1690664400@www.villagegreencashiersnc.com
SUMMARY:Cashiers Live
DESCRIPTION:Elton John – performed by Greggie And The Jets \nA complete recreation of the authentic sounds AND sights of Sir Elton – Costume changes included. \n7:00 PM – 9:00 PM\nDoor Time: 6:00 pm\nVIP (1 pass for all shows) includes:  \n\nVIP Parking\nPre-Concert Beer & Wine Cocktail Hour at Lewis Hall\nOpen Beer & Wine Bar During Concert\nPremiere Concert Seating for the Entire Season\n\nGeneral Admin: $35 \nKids (12 and under): $10 \n* General Admin – Bring your coolers\, blankets & chairs! Food\, drinks and seating are not provided by the venue.
URL:https://www.villagegreencashiersnc.com/event/cashiers-live-4/
LOCATION:Common’s Lawn\, 160 Frank Allen Road\, Cashiers\, NC\, 28717\, United States
CATEGORIES:Music
ATTACH;FMTTYPE=image/png:https://www.villagegreencashiersnc.com/wp-content/uploads/2023/04/Elton-John.png
END:VEVENT
END:VCALENDAR