BEGIN:VCALENDAR
VERSION:2.0
PRODID:-//The Village Green Of Cashiers - ECPv6.15.13//NONSGML v1.0//EN
CALSCALE:GREGORIAN
METHOD:PUBLISH
X-ORIGINAL-URL:https://www.villagegreencashiersnc.com
X-WR-CALDESC:Events for The Village Green Of Cashiers
REFRESH-INTERVAL;VALUE=DURATION:PT1H
X-Robots-Tag:noindex
X-PUBLISHED-TTL:PT1H
BEGIN:VTIMEZONE
TZID:America/New_York
BEGIN:DAYLIGHT
TZOFFSETFROM:-0500
TZOFFSETTO:-0400
TZNAME:EDT
DTSTART:20230312T070000
END:DAYLIGHT
BEGIN:STANDARD
TZOFFSETFROM:-0400
TZOFFSETTO:-0500
TZNAME:EST
DTSTART:20231105T060000
END:STANDARD
BEGIN:DAYLIGHT
TZOFFSETFROM:-0500
TZOFFSETTO:-0400
TZNAME:EDT
DTSTART:20240310T070000
END:DAYLIGHT
BEGIN:STANDARD
TZOFFSETFROM:-0400
TZOFFSETTO:-0500
TZNAME:EST
DTSTART:20241103T060000
END:STANDARD
BEGIN:DAYLIGHT
TZOFFSETFROM:-0500
TZOFFSETTO:-0400
TZNAME:EDT
DTSTART:20250309T070000
END:DAYLIGHT
BEGIN:STANDARD
TZOFFSETFROM:-0400
TZOFFSETTO:-0500
TZNAME:EST
DTSTART:20251102T060000
END:STANDARD
END:VTIMEZONE
BEGIN:VEVENT
DTSTART;TZID=America/New_York:20240430T173000
DTEND;TZID=America/New_York:20240924T183000
DTSTAMP:20260421T024328
CREATED:20240108T200844Z
LAST-MODIFIED:20240411T165324Z
UID:4621-1714498200-1727202600@www.villagegreencashiersnc.com
SUMMARY:Village Nature Series
DESCRIPTION:The Highlands-Cashiers Land Trust and The Village Green co-host a series of lectures each summer. Visitors and residents learn about wildlife\, habitats\, conservation\, and local cultural heritage from expert speakers in their fields! The Village Nature Series will begin at 5:30pm on the last Tuesday of each month (August’s presentation will be held on the 20th) from April through September at The Village Green in Cashiers. \nThank you to Cedar Creek Club for sponsoring the Village Nature Series! \nApril 30th Presentation: Composting with worms is a simple process that manages food waste\, while producing a super-enriched soil amendment and promoting sustainability. This presentation will cover not only the basics about worms and worm composting\, but also the science behind successfully gardening with worm products. Come learn about worm composting and how to best use worm compost and worm tea in your own garden!
URL:https://www.villagegreencashiersnc.com/event/village-nature-series-3/
LOCATION:Lewis Hall at The Village Green\, 160 Frank Allen Road\, Cashiers\, NC\, 28717\, United States
ATTACH;FMTTYPE=image/png:https://www.villagegreencashiersnc.com/wp-content/uploads/2024/04/Village-Nature-Series.png
END:VEVENT
BEGIN:VEVENT
DTSTART;TZID=America/New_York:20240528T173000
DTEND;TZID=America/New_York:20241022T183000
DTSTAMP:20260421T024328
CREATED:20240108T200844Z
LAST-MODIFIED:20240411T165207Z
UID:4623-1716917400-1729621800@www.villagegreencashiersnc.com
SUMMARY:Village Nature Series
DESCRIPTION:The Highlands-Cashiers Land Trust and The Village Green co-host a series of lectures each summer. Visitors and residents learn about wildlife\, habitats\, conservation\, and local cultural heritage from expert speakers in their fields! The Village Nature Series will begin at 5:30pm on the last Tuesday of each month (August’s presentation will be held on the 20th) from April through September at The Village Green in Cashiers. \nThank you to Cedar Creek Club for sponsoring the Village Nature Series! \nMay 28th Presentation: North Carolina’s hemlock trees need your help. Though hemlocks are declining\, there is hope to bring them back to their previous glory! Join Olivia and Thom from the Hemlock Restoration Initiative to learn about hemlock ecology\, woolly adelgid biology\, what is being done to help\, and management strategies to take care of hemlocks on your own land.
URL:https://www.villagegreencashiersnc.com/event/village-nature-series-3-2024-05-28/
LOCATION:Lewis Hall at The Village Green\, 160 Frank Allen Road\, Cashiers\, NC\, 28717\, United States
ATTACH;FMTTYPE=image/png:https://www.villagegreencashiersnc.com/wp-content/uploads/2024/04/Village-Nature-Series.png
END:VEVENT
BEGIN:VEVENT
DTSTART;TZID=America/New_York:20240625T173000
DTEND;TZID=America/New_York:20241119T183000
DTSTAMP:20260421T024328
CREATED:20240108T200844Z
LAST-MODIFIED:20240411T165008Z
UID:4624-1719336600-1732041000@www.villagegreencashiersnc.com
SUMMARY:Village Nature Series
DESCRIPTION:The Highlands-Cashiers Land Trust and The Village Green co-host a series of lectures each summer. Visitors and residents learn about wildlife\, habitats\, conservation\, and local cultural heritage from expert speakers in their fields! The Village Nature Series will begin at 5:30pm on the last Tuesday of each month (August’s presentation will be held on the 20th) from April through September at The Village Green in Cashiers. \nThank you to Cedar Creek Club for sponsoring the Village Nature Series! \nJune 25th Description: Join Lizza Bixby as she weaves a terrific journey around all things fungi! Lizza will break the veil of mystery and briefly explain mushroom foraging in our area\, at home mushroom growing\, and how it can be great for your garden. She will cover myco-innovations sure to get you excited! Grab your boots and join us for this exciting mushroom discovery hour!
URL:https://www.villagegreencashiersnc.com/event/village-nature-series-3-2024-06-25/
LOCATION:Lewis Hall at The Village Green\, 160 Frank Allen Road\, Cashiers\, NC\, 28717\, United States
ATTACH;FMTTYPE=image/png:https://www.villagegreencashiersnc.com/wp-content/uploads/2024/04/Village-Nature-Series.png
END:VEVENT
BEGIN:VEVENT
DTSTART;TZID=America/New_York:20240828T110000
DTEND;TZID=America/New_York:20240828T150000
DTSTAMP:20260421T024328
CREATED:20240201T211548Z
LAST-MODIFIED:20240411T163109Z
UID:4783-1724842800-1724857200@www.villagegreencashiersnc.com
SUMMARY:Locally Grown on The Green Farmers Market
DESCRIPTION:New Time\, Same Market! \nChoose the food less traveled at the Green Market\, Cashiers farm stand market for local growers. The market is “producer-only” meaning that the vendor must be the grower or producer of ALL the products they sell. Vendors must produce within a 100-mile radius of Cashiers. That means that the season for each fruit and vegetable is longer. Shopping at the Green Market provides a forum for learning how food is grown\, who grew it\, and why it tastes so good. \nFill your basket with naturally raised meat and dairy items\, fresh eggs\, jams\, pickles\, freshly baked bread and delicious granola.  Set your table with fresh cut flowers or plant your entryway with locally grown perennials.  Always fresh.  Always local. \nLocally Grown On the Green | 11AM – 3PM\nEvery Wednesday May 1 – October 30th\nThe Village Green Commons\nFree
URL:https://www.villagegreencashiersnc.com/event/locally-grown-on-the-green-farmers-market/2024-08-28/
LOCATION:Common’s Lawn\, 160 Frank Allen Road\, Cashiers\, NC\, 28717\, United States
ATTACH;FMTTYPE=image/png:https://www.villagegreencashiersnc.com/wp-content/uploads/2024/02/Untitled-design-10-copy-4.png
ORGANIZER;CN="The Village Green of Cashiers":MAILTO:Shelby@cashiersgreen.com
END:VEVENT
BEGIN:VEVENT
DTSTART;TZID=America/New_York:20240830T180000
DTEND;TZID=America/New_York:20240830T203000
DTSTAMP:20260421T024328
CREATED:20240115T190350Z
LAST-MODIFIED:20240402T203416Z
UID:4683-1725040800-1725049800@www.villagegreencashiersnc.com
SUMMARY:Groovin' on The Green featuring Pretty Little Goat
DESCRIPTION:Groovin’ on The Green remains a vibrant\, free summer concert series\, creating unforgettable musical experiences for the community! Groovin’ on The Green concerts will begin at 6pm\, rain or shine\, on The Village Green Commons Lawn. Concerts take place on select Fridays from Memorial Day through Labor Day. Food and beverage vendors will be on site during the event! Picnics\, coolers\, and beverages are welcome. Dogs are welcome if they are leashed and with their owners at all times. \nPretty Little Goat is grassroots music at its finest. The band formed in 2013 through their common grounding in the deep well of local tradition found in the mountains of Western North Carolina. As young lovers of old-time music\, Pretty Little Goat began winning string band competitions right away. Over the last six years the Goats have collaborated with many well respected local musicians including Jamie Laval\, Blake Ellege\, members of the Steep Canyon Rangers\, Jeff Sipe\, Jonathan Grey of Jump Little Children and many others.
URL:https://www.villagegreencashiersnc.com/event/groovin-on-the-green-featuring-pretty-little-goat/
LOCATION:Common’s Lawn\, 160 Frank Allen Road\, Cashiers\, NC\, 28717\, United States
ATTACH;FMTTYPE=image/jpeg:https://www.villagegreencashiersnc.com/wp-content/uploads/2024/01/prettylittlegoat-1024x684-1.jpg
ORGANIZER;CN="The Village Green of Cashiers":MAILTO:Shelby@cashiersgreen.com
END:VEVENT
END:VCALENDAR